Workbook

Sheet Индикативна Фин.Т.
A1: ИНДИКАТИВНА ФИНАНСОВА ТАБЛИЦА
A2: Общински план за развитие на община Сливен 2014-2020
A3: ПЕРИОД 2014-2020 | D3: Местно публично финансиране | F3: Външно публично финансиране | M3: Частно финансиране | O3: ОБЩО
A4: ПРИОРИТЕТИ | D4: Общински бюджет | E4: Местни публични фондове | F4: Общ дял % | G4: Централен бюджет | H4: Общ дял % | I4: Фондове на ЕС | J4: Общ дял % | K4: Други източници | L4: Общ дял % | M4: Фондове, фирми | N4: Общ дял %
A5: 1 | D5: 2 | E5: 3 | F5: 4 | G5: 5 | H5: 6 | I5: 7 | J5: 8 | K5: 9 | L5: 10 | M5: 11 | N5: 12 | O5: 13
B6: =ПрограмаРеализация!C5 -> Общо всички приоритетни области | D6: =O6*0.05 -> 15493.5 | E6: 0 | F6: 5 | G6: =O6*0.15 -> 46480.5 | H6: 15 | I6: =O6*0.65 -> 201415.5 | J6: 65 | K6: =O6*0.05 -> 15493.5 | L6: 5 | M6: =O6*0.1 -> 30987 | N6: 10 | O6: =ПрограмаРеализация!D5 -> 309870
A7: =ПрограмаРеализация!A6 -> ПРИОРИТЕТНА ОБЛАСТ 1. УСТОЙЧИВ ИКОНОМИЧЕСКИ РАСТЕЖ И ИНОВАЦИИ | D7: =O7*0.05 -> 4145 | E7: 0 | F7: 5 | G7: =O7*0.15 -> 12435 | H7: 15 | I7: =O7*0.65 -> 53885 | J7: 65 | K7: =O7*0.05 -> 4145 | L7: 5 | M7: =O7*0.1 -> 8290 | N7: 10 | O7: =ПрограмаРеализация!D8 -> 82900
A8: =ПрограмаРеализация!A8 -> Стратегическа цел 1: Реализиране на икономически растеж основан на местния природен, културен и демографски потенциал, чрез иновации във водещите икономически дейности | D8: =O8*0.05 -> 4145 | E8: 0 | F8: 5 | G8: =O8*0.15 -> 12435 | H8: 15 | I8: =O8*0.65 -> 53885 | J8: 65 | K8: =O8*0.05 -> 4145 | L8: 5 | M8: =O8*0.1 -> 8290 | N8: 10 | O8: =ПрограмаРеализация!D8 -> 82900
A9: =ПрограмаРеализация!A9 -> Приоритет 1.1. Повишаване конкурентоспособността и иновативността на местната икономика. | D9: =O9*0.05 -> 860 | E9: 0 | F9: 5 | G9: =O9*0.15 -> 2580 | H9: 15 | I9: =O9*0.65 -> 11180 | J9: 65 | K9: =O9*0.05 -> 860 | L9: 5 | M9: =O9*0.1 -> 1720 | N9: 10 | O9: =ПрограмаРеализация!D9 -> 17200
A10: =ПрограмаРеализация!A24 -> Приоритет 1.2. Създаване на благоприятни условия за привличане на инвестиции. Развитие на партньорства. | D10: =O10*0.05 -> 225 | E10: 0 | F10: 5 | G10: =O10*0.15 -> 675 | H10: 15 | I10: =O10*0.65 -> 2925 | J10: 65 | K10: =O10*0.05 -> 225 | L10: 5 | M10: =O10*0.1 -> 450 | N10: 10 | O10: =ПрограмаРеализация!D24 -> 4500
A11: =ПрограмаРеализация!A35 -> Приоритет 1.3. Развитие на устойчив висококачествен регионален туризъм и транспорт. | D11: =O11*0.05 -> 2570 | E11: 0 | F11: 5 | G11: =O11*0.15 -> 7710 | H11: 15 | I11: =O11*0.65 -> 33410 | J11: 65 | K11: =O11*0.05 -> 2570 | L11: 5 | M11: =O11*0.1 -> 5140 | N11: 10 | O11: =ПрограмаРеализация!D35 -> 51400
A12: =ПрограмаРеализация!A55 -> Приоритет 1.4. Развитие на модерно и конкурентноспособно земеделие | D12: =O12*0.05 -> 490 | E12: 0 | F12: 5 | G12: =O12*0.15 -> 1470 | H12: 15 | I12: =O12*0.65 -> 6370 | J12: 65 | K12: =O12*0.05 -> 490 | L12: 5 | M12: =O12*0.1 -> 980 | N12: 10 | O12: =ПрограмаРеализация!D55 -> 9800
A13: =ПрограмаРеализация!A68 -> ПРИОРИТЕТНА ОБЛАСТ 2. ЖИЗНЕН СТАНДАРТ И КАЧЕСТВО НА ЖИВОТ | D13: =O13*0.05 -> 4114 | E13: 0 | F13: 5 | G13: =O13*0.15 -> 12342 | H13: 15 | I13: =O13*0.65 -> 53482 | J13: 65 | K13: =O13*0.05 -> 4114 | L13: 5 | M13: =O13*0.1 -> 8228 | N13: 10 | O13: =ПрограмаРеализация!D68 -> 82280
A14: =ПрограмаРеализация!A69 -> Стратегическа цел 2: Подобряване на условията за живот, социалните услуги и личната сигурност | D14: =O14*0.05 -> 4114 | E14: 0 | F14: 5 | G14: =O14*0.15 -> 12342 | H14: 15 | I14: =O14*0.65 -> 53482 | J14: 65 | K14: =O14*0.05 -> 4114 | L14: 5 | M14: =O14*0.1 -> 8228 | N14: 10 | O14: =ПрограмаРеализация!D69 -> 82280
A15: =ПрограмаРеализация!A70 -> Приоритет 2.1. Подобряване качеството на образованието и създаване на условия за развитие на младите хора. | D15: =O15*0.05 -> 2434 | E15: 0 | F15: 5 | G15: =O15*0.15 -> 7302 | H15: 15 | I15: =O15*0.65 -> 31642 | J15: 65 | K15: =O15*0.05 -> 2434 | L15: 5 | M15: =O15*0.1 -> 4868 | N15: 10 | O15: =ПрограмаРеализация!D70 -> 48680
A16: =ПрограмаРеализация!A89 -> Приоритет 2.2. Създаване на възможности за трудова заетост, намаляване на бедността и риска от социална изолация. | D16: =O16*0.05 -> 797.5 | E16: 0 | F16: 5 | G16: =O16*0.15 -> 2392.5 | H16: 15 | I16: =O16*0.65 -> 10367.5 | J16: 65 | K16: =O16*0.05 -> 797.5 | L16: 5 | M16: =O16*0.1 -> 1595 | N16: 10 | O16: =ПрограмаРеализация!D89 -> 15950
A17: =ПрограмаРеализация!A123 -> Приоритет 2.3. Повишаване качеството на здравеопазването и подобряване достъпа до обектите на здравната инфраструктура. | D17: =O17*0.05 -> 362.5 | E17: 0 | F17: 5 | G17: =O17*0.15 -> 1087.5 | H17: 15 | I17: =O17*0.65 -> 4712.5 | J17: 65 | K17: =O17*0.05 -> 362.5 | L17: 5 | M17: =O17*0.1 -> 725 | N17: 10 | O17: =ПрограмаРеализация!D123 -> 7250
A18: =ПрограмаРеализация!A136 -> Приоритет 2.4. Развитие на културата и културните институции. Опазване, популяризиране и развитие на културното наследство. | D18: =O18*0.05 -> 450 | E18: 0 | F18: 5 | G18: =O18*0.15 -> 1350 | H18: 15 | I18: =O18*0.65 -> 5850 | J18: 65 | K18: =O18*0.05 -> 450 | L18: 5 | M18: =O18*0.1 -> 900 | N18: 10 | O18: =ПрограмаРеализация!D136 -> 9000
A19: =ПрограмаРеализация!A145 -> Приоритет 2.5. Повишаване на административния капацитет и ефективността на публичните услуги за гражданите и бизнеса | D19: =O19*0.05 -> 70 | E19: 0 | F19: 5 | G19: =O19*0.15 -> 210 | H19: 15 | I19: =O19*0.65 -> 910 | J19: 65 | K19: =O19*0.05 -> 70 | L19: 5 | M19: =O19*0.1 -> 140 | N19: 10 | O19: =ПрограмаРеализация!D145 -> 1400
A20: =ПрограмаРеализация!A151 -> ПРИОРИТЕТНА ОБЛАСТ 3. ТЕХНИЧЕСКА ИНФРАСТРУКТУРА И ОКОЛНА СРЕДА | D20: =O20*0.05 -> 6159.5 | E20: 0 | F20: 5 | G20: =O20*0.15 -> 18478.5 | H20: 15 | I20: =O20*0.65 -> 80073.5 | J20: 65 | K20: =O20*0.05 -> 6159.5 | L20: 5 | M20: =O20*0.1 -> 12319 | N20: 10 | O20: =ПрограмаРеализация!D151 -> 123190
A21: =ПрограмаРеализация!A152 -> Стратегическа цел 3: Развитие на техническа инфраструктура водеща до растеж и опазване на околната среда | D21: =O21*0.05 -> 6159.5 | E21: 0 | F21: 5 | G21: =O21*0.15 -> 18478.5 | H21: 15 | I21: =O21*0.65 -> 80073.5 | J21: 65 | K21: =O21*0.05 -> 6159.5 | L21: 5 | M21: =O21*0.1 -> 12319 | N21: 10 | O21: =ПрограмаРеализация!D152 -> 123190
A22: =ПрограмаРеализация!A153 -> Приоритет 3.1. Изграждане на нова и модернизиране на съществуващата техническа инфраструктура. | D22: =O22*0.05 -> 4159.5 | E22: 0 | F22: 5 | G22: =O22*0.15 -> 12478.5 | H22: 15 | I22: =O22*0.65 -> 54073.5 | J22: 65 | K22: =O22*0.05 -> 4159.5 | L22: 5 | M22: =O22*0.1 -> 8319 | N22: 10 | O22: =ПрограмаРеализация!D153 -> 83190
A23: =ПрограмаРеализация!A179 -> Приоритет 3.2. Подобряване качествените характеристики на околната среда. Опазване и възстановяване на природните ресурси. | D23: =O23*0.05 -> 250 | E23: 0 | F23: 5 | G23: =O23*0.15 -> 750 | H23: 15 | I23: =O23*0.65 -> 3250 | J23: 65 | K23: =O23*0.05 -> 250 | L23: 5 | M23: =O23*0.1 -> 500 | N23: 10 | O23: =ПрограмаРеализация!D179 -> 5000
A24: =ПрограмаРеализация!A191 -> Приоритет 3.3. Повишаване качеството на селищната среда | D24: =O24*0.05 -> 1750 | E24: 0 | F24: 5 | G24: =O24*0.15 -> 5250 | H24: 15 | I24: =O24*0.65 -> 22750 | J24: 65 | K24: =O24*0.05 -> 1750 | L24: 5 | M24: =O24*0.1 -> 3500 | N24: 10 | O24: =ПрограмаРеализация!D191 -> 35000
A25: =ПрограмаРеализация!A203 -> ПРИОРИТЕТНА ОБЛАСТ 4. ТЕРИТОРИАЛНО СЪТРУДНИЧЕСТВО И СБЛИЖАВАНЕ | D25: =O25*0.05 -> 1075 | E25: 0 | F25: 5 | G25: =O25*0.15 -> 3225 | H25: 15 | I25: =O25*0.65 -> 13975 | J25: 65 | K25: =O25*0.05 -> 1075 | L25: 5 | M25: =O25*0.1 -> 2150 | N25: 10 | O25: =ПрограмаРеализация!D203 -> 21500
A26: =ПрограмаРеализация!A204 -> Стратегическа цел 4: Стартиране на териториални инициативи за сближаване | D26: =O26*0.05 -> 1075 | E26: 0 | F26: 5 | G26: =O26*0.15 -> 3225 | H26: 15 | I26: =O26*0.65 -> 13975 | J26: 65 | K26: =O26*0.05 -> 1075 | L26: 5 | M26: =O26*0.1 -> 2150 | N26: 10 | O26: =ПрограмаРеализация!D204 -> 21500
A27: =ПрограмаРеализация!A205 -> Приоритет 4.1. Териториално сътрудничество в устойчиви транспортни системи | D27: =O27*0.05 -> 250 | E27: 0 | F27: 5 | G27: =O27*0.15 -> 750 | H27: 15 | I27: =O27*0.65 -> 3250 | J27: 65 | K27: =O27*0.05 -> 250 | L27: 5 | M27: =O27*0.1 -> 500 | N27: 10 | O27: =ПрограмаРеализация!D205 -> 5000
O28: =ПрограмаРеализация!D206 -> 5000
O29: =ПрограмаРеализация!D207 -> 5000
O30: =ПрограмаРеализация!D208 -> 5000
O31: =ПрограмаРеализация!D210 -> 4500
O32: =ПрограмаРеализация!D211 -> 4500
O33: =ПрограмаРеализация!D212 -> 4000
O34: =ПрограмаРеализация!D213 -> 500
A35: =ПрограмаРеализация!A209 -> Приоритет 4.2. Териториално сътрудничество в сферата на приоритетни икономически дейности. | D35: =O35*0.05 -> 225 | E35: 0 | F35: 5 | G35: =O35*0.15 -> 675 | H35: 15 | I35: =O35*0.65 -> 2925 | J35: 65 | K35: =O35*0.05 -> 225 | L35: 5 | M35: =O35*0.1 -> 450 | N35: 10 | O35: =ПрограмаРеализация!D209 -> 4500
A36: =ПрограмаРеализация!A214 -> Приоритет 4.3. Териториално сътрудничество на институционално ниво /регионални инициативи. | D36: =O36*0.05 -> 600 | E36: 0 | F36: 5 | G36: =O36*0.15 -> 1800 | H36: 15 | I36: =O36*0.65 -> 7800 | J36: 65 | K36: =O36*0.05 -> 600 | L36: 5 | M36: =O36*0.1 -> 1200 | N36: 10 | O36: =ПрограмаРеализация!D214 -> 12000

Sheet Матрица Индикатори
A1: МАТРИЦА НА ИНДИКАТОРИТЕ ЗА НАБЛЮДЕНИЕ И ОЦЕНКА НА ОБЩИНСКИЯ ПЛАН ЗА РАЗВИТИЕ НА ОБЩИНА СЛИВЕН ЗА ПЕРИОДА 2014-2020Г.
A2: Приоритет, специфична цел, мярка | D2: Индикатор | E2: Мярка | F2: Източник на информация | G2: Период на отчитане | H2: Базова стойност | I2: Целева стойност
A3: 1 | D3: 2 | E3: 3 | F3: 4 | G3: 5 | H3: 6 | I3: 7
A4: Приоритети, специфични цели, мерки | D4: Описание на индикатора | E4: хил. лв, %, друго | F4: НСИ, Община, Агенция за МСП, или др. | G4: 6 мес, 1 год, друго | H4: Към началото на периода | I4: Към края на периода
A5: =ПрограмаРеализация!A9 -> Приоритет 1.1. Повишаване конкурентоспособността и иновативността на местната икономика. | D5: Брой изпълнени проекти за насърчаване на предприемачеството и инвестициите | E5: Брой | F5: НСИ, Община, ИСУН | G5: 1 година
A6: =ПрограмаРеализация!A10 -> Специфична цел 1.1.1: Създаване на иновативна среда подкрепяща предприемаческите инициативи в община Сливен | D6: Брой местни предприятия, получили финансиране чрез схеми за безвъзмездна помощ за стартиращи предприемачи | E6: Брой | F6: НСИ, Община, ИСУН | G6: 1 година
A7: =ПрограмаРеализация!A11 -> Мярка 1.1.1.1.: Подкрепа за инициативи, включително на СГО, насочени към обучения, преквалификация, разпространение на добри практики и информация сред предприемачите и работната сила от община Сливен; | D7: Брой МСП, получили информационно-консултантски услуги | E7: Брой | F7: НСИ, Община, ИСУН | G7: 1 година
A8: =ПрограмаРеализация!A17 -> Мярка 1.1.1.2.: Подкрепа за инициативи , вкл. на СГО насочени към опазването на околната среда, културното наследство и традициите в населените места от община Сливен | D8: Брой новосъздадени добри практики за устойчив туризъм | E8: Брой | F8: НСИ, Община, ИСУН | G8: 1 година
A9: =ПрограмаРеализация!A20 -> Мярка 1.1.1.3.: Създаване на индустриални зони, логистични паркове и центрове за развитие в община Сливен | D9: Брой реализирани проекти за публично-частни партньорства Брой новосъздадени логистични паркове | E9: Брой | F9: НСИ, Община, ИСУН | G9: 1 година
A10: =ПрограмаРеализация!A24 -> Приоритет 1.2. Създаване на благоприятни условия за привличане на инвестиции. Развитие на партньорства. | D10: Брой местни фирми, обхванати от новосъздаден(и) клъстер(и) | E10: Брой | F10: НСИ, Община, ИСУН | G10: 1 година
A11: =ПрограмаРеализация!A25 -> Специфична цел 1.2.1: Подобряване на административните услуги за бизнеса и реализиране на успешни партньорства | D11: Брой реализирани проекти за публично-частни партньорства Брой обучени предприемачи и служители на общинската администрация | E11: Брой | F11: НСИ, Община, ИСУН | G11: 1 година
A12: =ПрограмаРеализация!A26 -> Мярка 1.2.1.1.: Създаване на експертен екип към община Сливен в подкрепа на местната администрация при реализирането на проекти с инвестиционен характер; | D12: Брой на бизнес форумите проведени на територията на община Сливен в подкрепа на изграждането на бизнес мрежи и клъстери | E12: Брой | F12: НСИ, Община, ИСУН | G12: 1 година
A13: =ПрограмаРеализация!A29 -> Мярка 1.2.1.2.: Реализиране на партньорства с ВУЗ в областта на изследванията на иновативни индустриални продукти, туризма, ВЕИ и биомаса. | D13: Брой на сключените партньорства между местни предприятия, университети и научно-изследователски институции и лаборатории | E13: Брой | F13: НСИ, Община, ИСУН | G13: 1 година
A14: =ПрограмаРеализация!A32 -> Мярка 1.2.1.3.: Реализиране на инициативи и партньорства със СГО подкрепящи комуникацията с организации на инвеститори и работодатели | D14: Брой местни предприятия, получили финансиране чрез гаранционни схеми и финансови инструменти за стартиращи предприемачи и съществуващи МСП; | E14: Брой | F14: НСИ, Община, ИСУН | G14: 1 година
A15: =ПрограмаРеализация!A35 -> Приоритет 1.3. Развитие на устойчив висококачествен регионален туризъм и транспорт. | D15: Брой на новосъздадените места за настаняване в туризма | E15: Брой | F15: НСИ, Община, ИСУН | G15: 1 година
A16: =ПрограмаРеализация!A36 -> Специфична цел 1.3.1: Оползотворяване на съществуващият потенциал за алтернативни форми на туризъм и транспорт | D16: Брой новоразработени туристически продукти на територията на общината | E16: Брой | F16: НСИ, Община, ИСУН | G16: 1 година
A17: =ПрограмаРеализация!A37 -> Мярка 1.3.1.1.: Подкрепа за проекти създаващи условия за включване в туристически маршрути на защитени и културни обекти на територията на община Сливен | D17: Брой на разработените и пазарно предлагани регионални туристически пакети | E17: Брой | F17: НСИ, Община, ИСУН | G17: 1 година
A18: =ПрограмаРеализация!A42 -> Мярка 1.3.1.2.: Подкрепа на инициативи за обновление и добавяне на стойност към природни и културни обекти на територията на община Сливен с туристическа значимост | D18: Брой новосъздадени добри практики за устойчив туризъм | E18: Брой | F18: НСИ, Община, ИСУН | G18: 1 година
A19: =ПрограмаРеализация!A47 -> Мярка 1.3.1.3.: Реализиране на публично-частни партньорства с цел създаване на туристически атракциони и анимации с висока добавена стойност | D19: Брой реализирани проекти за публично-частни партньорства | E19: Брой | F19: НСИ, Община, ИСУН | G19: 1 година
A20: =ПрограмаРеализация!A51 -> Мярка 1.3.1.4.: Подкрепа на инициативи и проекти водещи до подобряване на достъпа до информация за туристическото предлагане в общината | D20: Брой туристически атракции, създадени или реновирани и еспонирани | E20: Брой | F20: НСИ, Община, ИСУН | G20: 1 година
A21: =ПрограмаРеализация!A55 -> Приоритет 1.4. Развитие на модерно и конкурентноспособно земеделие | D21: Темп на нарастване на оборотите на стопанските субекти в общината (в лв. и %) | E21: Брой | F21: НСИ, Община, ИСУН | G21: 1 година
A22: =ПрограмаРеализация!A56 -> Специфична цел 1.4.1: Повишаване на добавената стойност от земеделските и горски продукти | D22: Брой новосъздадени земеделски организации по реда на ЗЗД или ЗЮЛНЦ | E22: Брой | F22: НСИ, Община, ИСУН | G22: 1 година
A23: =ПрограмаРеализация!A57 -> Мярка 1.4.1.1.: Подкрепа на инициативи и проекти подобряващи средата на пазарно предлагане на земеделски и животински продукти | D23: Брой на фермите в които се реализира биологично земеделие Брой на новите пазари за зем. продукция | E23: Брой | F23: НСИ, Община, ИСУН | G23: 1 година
A24: =ПрограмаРеализация!A59 -> Мярка 1.4.1.2.: Подкрепа за проекти оптимизиращи земеползването в нископродуктивни терени, чрез залесяване и други лесоустройствени мероприятия. | D24: Брой на реализираните лесоустройствени проекти | E24: Брой | F24: НСИ, Община, ИСУН | G24: 1 година
A25: =ПрограмаРеализация!A61 -> Мярка 1.4.1.3.: Подкрепа за проекти насочени към развитие на оранжерийно зеленчукопроизводство, трайни насаждения и култури с нови приложения. | D25: Брой на фермите в които се реализира биологично земеделие | E25: Брой | F25: НСИ, Община, ИСУН | G25: 1 година
A26: =ПрограмаРеализация!A63 -> Мярка 1.4.1.4.: Подкрепа за проекти повишаващи модернизацията на земеделските стопанства | D26: Брой на реализиране проекти по мярка 121 на ПРСР | E26: Брой | F26: НСИ, Община, ИСУН | G26: 1 година
A27: =ПрограмаРеализация!A66 -> Мярка 1.4.1.5.: Подкрепа на инициативи на СГО и земеделски организации насочени към трансфер на технологии и „ноу-хау” в областта на биологичното земеделие | D27: Брой реализирани иновативни проекти създали „полезен модел” или „патент” | E27: Брой | F27: НСИ, Община, ИСУН | G27: 1 година
A28: =ПрограмаРеализация!A70 -> Приоритет 2.1. Подобряване качеството на образованието и създаване на условия за развитие на младите хора. | D28: Брой на учениците със средно образование от община Сливен продължили образованието си във ВУЗ | E28: Брой | F28: НСИ, Община, ИСУН | G28: 1 година
A29: =ПрограмаРеализация!A71 -> Специфична цел 2.1.1: Модернизиране на общинската образователна инфраструктура | D29: Брой на новосъздадените/ реновирани образователни заведения | E29: Брой | F29: НСИ, Община, ИСУН | G29: 1 година
A30: =ПрограмаРеализация!A72 -> Мярка 2.1.1.1. Реализиране на проекти за ремонт, обновление и енергийна ефективност на училища и детски заведения публична общинска собственост | D30: Брой на училищата и детските заведения с реализиран проект за обновление и мерки за ЕФ. | E30: Брой | F30: НСИ, Община, ИСУН | G30: 1 година
A31: =ПрограмаРеализация!A81 -> Мярка 2.1.1.2. Реализиране на проекти за оптимизация и модернизация на транспорта на пътуващите ученици. | D31: Брой на новите транспортни следства, маршрути и възможности | E31: Брой | F31: НСИ, Община, ИСУН | G31: 1 година
A32: =ПрограмаРеализация!A83 -> Мярка 2.1.1.3. Подкрепа на инициативи на СГО и бизнеса насочени към професионално обучение в областите – предприемачество, биоземеделие, животновъдство и алтернативен туризъм. | D32: Брой на обучените | E32: Брой | F32: НСИ, Община, ИСУН | G32: 1 година
A33: =ПрограмаРеализация!A86 -> Специфична цел 2.1.2: Създаване на условия за пълно включване на децата в образователната система и превенция на ранното напускане | D33: Брой на учениците получили средно образование в училища от община Сливен | E33: Брой | F33: НСИ, Община, ИСУН | G33: 1 година
A34: =ПрограмаРеализация!A87 -> Мярка 2.1.2.1. Реализиране на проекти за разширяване капацитета на учебните заведения към работата с деца от социално уязвими групи | D34: Брой на новосъздадените средни училища | E34: Брой | F34: НСИ, Община, ИСУН | G34: 1 година
A35: =ПрограмаРеализация!A89 -> Приоритет 2.2. Създаване на възможности за трудова заетост, намаляване на бедността и риска от социална изолация. | D35: Брой на реализираните проекти, насочени към трайно безработни лица | E35: Брой | F35: НСИ, Община, ИСУН | G35: 1 година
A36: =ПрограмаРеализация!A90 -> Специфична цел 2.2.1: Подобряване на условията за заетост и професионална реализация на всички социални групи | D36: Брой изпълнени проекти за предоставяне на социални услуги за лица в риск или уязвими групи; | E36: Брой | F36: НСИ, Община, ИСУН | G36: 1 година
A37: =ПрограмаРеализация!A91 -> Мярка 2.2.1.1. Реализиране на проекти насочени към наемане на младежи на възраст до 29 години и дългосрочно безработни | D37: Брой на реализираните проекти, насочени към смекчаване на младежката безработица до 29г. | E37: Брой | F37: НСИ, Община, ИСУН | G37: 1 година
A38: =ПрограмаРеализация!A93 -> Мярка 2.2.1.2. Реализиране на инициативи и проекти в подкрепа на полупазарните стопанства за повишаването на самонаемането | D38: Брой на регистрираните трайнобезработни лица | E38: Брой | F38: НСИ, Община, ИСУН | G38: 1 година
A39: =ПрограмаРеализация!A96 -> Специфична цел 2.2.2: Развитие на социалните услуги и социално включване в селата | D39: Брой на реализираните проекти, насочени към заетостта | E39: Брой | F39: НСИ, Община, ИСУН | G39: 1 година
A40: =ПрограмаРеализация!A97 -> Мярка 2.2.2.1. Реализиране на проекти за социални грижи в домашна среда – социален личен асистент, домашен помощник. | D40: Брой лица, получили социални услуги по проекти за предоставяне на социални услуги за лица в риск; | E40: Брой | F40: НСИ, Община, ИСУН | G40: 1 година
A41: =ПрограмаРеализация!A99 -> Мярка 2.2.2.2. Реализиране на проекти водещи до разширяване на услугата социален патронаж и обществена трапезария | D41: Брой лица, получили социални услуги по проекти за предоставяне на социални услуги за лица в риск; | E41: Брой | F41: НСИ, Община, ИСУН | G41: 1 година
A42: =ПрограмаРеализация!A101 -> Мярка 2.2.2.3. Реализиране на проекти за създаване на дневни центрове за грижи за възрастни хора и лица с увреждания | D42: Брой лица, получили социални услуги по проекти за предоставяне на социални услуги за лица в риск; | E42: Брой | F42: НСИ, Община, ИСУН | G42: 1 година
A43: =ПрограмаРеализация!A104 -> Мярка 2.2.2.4. Реализиране на проекти за създаване на защитени жилища, центрове за настаняване от семеен тип и резидентен тип социални услуги за временно настаняване | D43: Брой лица в неравностойно социално положение, обхванати от проекти и дейности за социално включване; | E43: Брой | F43: НСИ, Община, ИСУН | G43: 1 година
A44: =ПрограмаРеализация!A106 -> Мярка 2.2.2.5. Разкриване на центрове за обществена подкрепа, центрове за социална рехабилитация и интеграция | D44: Брой лица, получили социални услуги по проекти за предоставяне на социални услуги за лица в риск; | E44: Брой | F44: НСИ, Община, ИСУН | G44: 1 година
A45: =ПрограмаРеализация!A109 -> Мярка 2.2.2.6. Реализиране на проекти за предоставяне на нови социални услуги за уязвими общности предлагащи защитена заетост в социални предприятия | D45: Брой лица в неравностойно социално положение, обхванати от проекти и дейности за социално включване; | E45: Брой | F45: НСИ, Община, ИСУН | G45: 1 година
A46: =ПрограмаРеализация!A112 -> Мярка 2.2.2.7. Реализиране на проекти за социализация на деца, семейства, лица с увреждания и самотни хора в риск чрез предоставяне на интегрирани услуги | D46: Брой лица в неравностойно социално положение, обхванати от проекти и дейности за социално включване; | E46: Брой | F46: НСИ, Община, ИСУН | G46: 1 година
A47: =ПрограмаРеализация!A114 -> Мярка 2.2.2.8. Реализиране на проекти за обновление на общински сграден фонд и реконверсия в социални жилища | D47: Брой на новосъздадените/реновирани социални сгради и заведения | E47: Брой | F47: НСИ, Община, ИСУН | G47: 1 година
A48: =ПрограмаРеализация!A116 -> Мярка 2.2.2.9. Реализиране на проекти за изграждане на нови социални жилища | D48: Брой новоизградени социални жилища | E48: Брой | F48: НСИ, Община, ИСУН | G48: 1 година
A49: =ПрограмаРеализация!A118 -> Мярка 2.2.2.10. Реализиране на проекти за обновление, енергийна ефективност и преоборудване на общински социален сграден фонд и инфраструктура | D49: Брой обновени общински сгради към социалния сграден фонд | E49: Брой | F49: НСИ, Община, ИСУН | G49: 1 година
A50: =ПрограмаРеализация!A120 -> Специфична цел 2.2.3: Подобряване на условията за лична и обществена сигурност | D50: Брой на регистрираните битови престъпления и престъпления към личността | E50: Брой | F50: НСИ, Община, ИСУН | G50: 1 година
A51: =ПрограмаРеализация!A121 -> Мярка 2.2.3.1. Реализиране на проекти за видеонаблюдение в населените места от община Сливен | D51: Брой на инсталираните видеокамери | E51: Брой | F51: НСИ, Община, ИСУН | G51: 1 година
A52: =ПрограмаРеализация!A123 -> Приоритет 2.3. Повишаване качеството на здравеопазването и подобряване достъпа до обектите на здравната инфраструктура. | D52: Брой на новосъздадените/ реновирани здрави заведения | E52: Брой | F52: НСИ, Община, ИСУН | G52: 1 година
A53: =ПрограмаРеализация!A124 -> Специфична цел 2.3.1. Подобряване на нивото на здравна превенция и достъпа до извънболничната и болничната помощ | D53: Брой на реализираните проекти за закупуване и инсталиране на ново здравно оборудване | E53: Брой | F53: НСИ, Община, ИСУН | G53: 1 година
A54: =ПрограмаРеализация!A125 -> Мярка 2.3.1.1. Подкрепа за реализиране на проект по ОПРР за доставка на ново болнично оборудване и технологии за ранна диагностика | D54: Брой ново оборудване за ранна диагностика в МБАЛ гр. Сливен | E54: Брой | F54: НСИ, Община, ИСУН | G54: 1 година
A55: =ПрограмаРеализация!A127 -> Мярка 2.3.1.2. Реализиране на проекти за оптимизация, модернизация и преоборудване на ЦСМП към МБАЛ | D55: Брой ново оборудване и линейки за ЦСМП | E55: Брой | F55: НСИ, Община, ИСУН | G55: 1 година
A56: =ПрограмаРеализация!A129 -> Мярка 2.3.1.3. Реализиране на проекти за създаване на рехабилитационни центрове за възрастни хора | D56: Брой центрове за възрастни хора | E56: Брой | F56: НСИ, Община, ИСУН | G56: 1 година
A57: =ПрограмаРеализация!A131 -> Мярка 2.3.1.4. Реализиране на проекти за здравен скрининг и превенция на здравния риск в образователната система на общината | D57: Брой здравни прегледи на година | E57: Брой | F57: НСИ, Община, ИСУН | G57: 1 година
A58: =ПрограмаРеализация!A134 -> Мярка 2.3.1.5. Реализиране на проекти за здравен скрининг и превенция на здравния риск в населените места чрез здравни медиатори | D58: Брой здравни медиатори по населени места | E58: Брой | F58: НСИ, Община, ИСУН | G58: 1 година
A59: =ПрограмаРеализация!A136 -> Приоритет 2.4. Развитие на културата и културните институции. Опазване, популяризиране и развитие на културното наследство. | D59: Брой изградена/реновирани обекти за културни, младежки и спортни дейности | E59: Брой | F59: НСИ, Община, ИСУН | G59: 1 година
A60: =ПрограмаРеализация!A137 -> Специфична цел 2.4.1. Съхранение на материалното и нематериалното културно наследство на територията на община Сливен | D60: Брой културни, младежки и спортни събития, организирани по проекти на общината. | E60: Брой | F60: НСИ, Община, ИСУН | G60: 1 година
A61: =ПрограмаРеализация!A138 -> Мярка 2.4.1.1. Реализиране на проекти за обновление на културната инфраструктура | D61: Брой изградена/реновирани обекти за културни, младежки и спортни дейности | E61: Брой | F61: НСИ, Община, ИСУН | G61: 1 година
A62: =ПрограмаРеализация!A140 -> Мярка 2.4.1.2. Реализиране на проекти разширяващи и разнообразяващи културно-просветната дейност на територията на общината | D62: Брой на реализираните културно-просветни проекти | E62: Брой | F62: НСИ, Община, ИСУН | G62: 1 година | H62: 5 | I62: 10
A63: =ПрограмаРеализация!A145 -> Приоритет 2.5. Повишаване на административния капацитет и ефективността на публичните услуги за гражданите и бизнеса | D63: Брой на реализираните проекти, подобряващи административното и информационно обслужване | E63: Брой | F63: НСИ, Община, ИСУН | G63: 1 година
A64: =ПрограмаРеализация!A146 -> Специфична цел 2.5.1. Нарастване на броя на реализираните публични проекти и предоставянето на ефективни публични услуги | D64: Брой на предоставяните публични услуги | E64: Брой | F64: НСИ, Община, ИСУН | G64: 1 година
A65: =ПрограмаРеализация!A147 -> Мярка 2.5.1.1. Подкрепа за проекти развиващи административния капацитет на общинската администрация | D65: Брой на проектите за обучение и преквалификация на служители от общинска администрация | E65: Брой | F65: НСИ, Община, ИСУН | G65: 1 година
A66: =ПрограмаРеализация!A153 -> Приоритет 3.1. Изграждане на нова и модернизиране на съществуващата техническа инфраструктура. | D66: Брой на реализираните проекти за реновиране на селищна инфраструктура | E66: Брой | F66: НСИ, Община, ИСУН | G66: 1 година
A67: =ПрограмаРеализация!A154 -> Специфична цел 3.1.1. Обновление на техническата инфраструктура в населените места | D67: Брой на реализираните проекти за благоустрояване в селищата на общината. | E67: Брой | F67: НСИ, Община, ИСУН | G67: 1 година
A68: =ПрограмаРеализация!A155 -> Мярка 3.1.1.1.: Обновление и/или изграждане на нови пътища, тротоари, алеи, зелени площи и съпътстваща инфраструктура | D68: Дължина на рехабилитираната общинска пътна мрежа (км.), тротоари, зелени площи и съпътствата инфраструктура | E68: метри | F68: НСИ, Община, ИСУН | G68: 1 година
A69: =ПрограмаРеализация!A161 -> Мярка 3.1.1.2.: Обновление и/или изграждане на нова енергийната мрежа и публично осветление в населените места от общината | D69: Брой на новоизградените лампи за обществено осветление в населените места | E69: Брой | F69: НСИ, Община, ИСУН | G69: 1 година
A70: =ПрограмаРеализация!A164 -> Мярка 3.1.1.3.: Обновление и/или изграждане на нова водопроводна и канализационна инфраструктура в населените места от общината | D70: Изградена/рехабилитирана ВиК мрежа (км.); Брой на домакинствата с подобрен режим на водоснабдяване; Прогнозно намаляване на загубите на вода по мрежата (%); | E70: км/Брой/% | F70: НСИ, Община, ИСУН | G70: 1 година
A71: =ПрограмаРеализация!A166 -> Мярка 3.1.1.4.: Обновление и/или изграждане на нови телекомуникационни мрежи | D71: Брой на домакинствата с достъп до високоскоростен интернет; | E71: Брой | F71: НСИ, Община, ИСУН | G71: 1 година
A72: =ПрограмаРеализация!A168 -> Специфична цел 3.1.2. Обновление на общинска пътна инфраструктура | D72: Дължина на обновената извънселищна инфраструктура | E72: метри | F72: НСИ, Община, ИСУН | G72: 1 година
A73: =ПрограмаРеализация!A169 -> Мярка 3.1.2.1.: Обновление на общински пътища | D73: Дължина на рехабилитираната общинска пътна мрежа (км.); | E73: метри | F73: НСИ, Община, ИСУН | G73: 1 година
A74: =ПрограмаРеализация!A171 -> Специфична цел 3.1.3. Подобряване на осигуреността с устройствени планове | D74: Брой нови ПУП в производствените зони | E74: Брой | F74: НСИ, Община, ИСУН | G74: 1 година
A75: =ПрограмаРеализация!A172 -> Мярка 3.1.3.1.: Изработване на нови ПУП в подкрепа на инвестиционното проектиране на територията общината | D75: Брой нови ПУП за инвестиционни проекти | E75: Брой | F75: НСИ, Община, ИСУН | G75: 1 година
A76: =ПрограмаРеализация!A179 -> Приоритет 3.2. Подобряване качествените характеристики на околната среда. Опазване и възстановяване на природните ресурси. | D76: Брой проекти за опазване на околната среда | E76: Брой | F76: НСИ, Община, ИСУН | G76: 1 година
A77: =ПрограмаРеализация!A180 -> Специфична цел 3.2.1.: Подобряване на параметрите на околната среда в селищата от общината | D77: Брой проекти за опазване на околната среда в населените места | E77: Брой | F77: НСИ, Община, ИСУН | G77: 1 година
A78: =ПрограмаРеализация!A181 -> Мярка 3.2.1.1.: Подобряване на сметосъбирането и сметоизвозването в населените места | D78: Брой въведените системи в населените места за разделно събиране на битовите отпадъци; Брой на изградените площадки за сортиране и опаковане на разделно събраните битови отпадъци; | E78: Брой | F78: НСИ, Община, ИСУН | G78: 1 година
A79: =ПрограмаРеализация!A184 -> Специфична цел 3.2.2.: Подобряване на параметрите на околната среда извън селищата от общината | D79: Брой проекти за опазване на околната среда в извънселищни територии | E79: Брой | F79: НСИ, Община, ИСУН | G79: 1 година
A80: =ПрограмаРеализация!A185 -> Мярка 3.2.2.1.: Разработване на проекти насочени към устойчиви екологични практики | D80: Брой на изградените площадки за сортиране и опаковане на разделно събраните битови отпадъци; Брой на изградените пречиствателни станции за отпадни води; | E80: Брой | F80: НСИ, Община, ИСУН | G80: 1 година
A81: =ПрограмаРеализация!A187 -> Мярка 3.2.2.2.: Разработване на проекти за идентифициране, оценка, закриване и саниране на нерегламентираните сметища в общината | D81: Брой на закритите и рехабилитирани нерегламентирани депа за битови отпадъци; | E81: Брой | F81: НСИ, Община, ИСУН | G81: 1 година
A82: =ПрограмаРеализация!A189 -> Мярка 3.2.2.3.: Реализиране на проекти насочени към подобряване на параметрите на повърхностни и подземни водни тела | D82: Обработваеми земеделски земи с хидромелиорации (дка.); Брой на изградените пречиствателни станции за отпадни води; | E82: Брой | F82: НСИ, Община, ИСУН | G82: 1 година
A83: =ПрограмаРеализация!A191 -> Приоритет 3.3. Повишаване качеството на селищната среда | D83: Брой реализирани проекти за селищна инфраструктура | E83: Брой | F83: НСИ, Община, ИСУН | G83: 1 година
A84: =ПрограмаРеализация!A192 -> Специфична цел 3.3.1.: Развитие на инфраструктурата за свободното време и спорт | D84: Брой нови спортни съоръжения | E84: Брой | F84: НСИ, Община, ИСУН | G84: 1 година
A85: =ПрограмаРеализация!A193 -> Мярка 3.3.1.1. Подкрепа за проекти за изграждане на материално-техническа база на масови спортни игри | D85: Изградени детски площадки (бр.) | E85: Брой | F85: НСИ, Община, ИСУН | G85: 1 година
A86: =ПрограмаРеализация!A200 -> Мярка 3.3.1.2. Подкрепа за проекти за обновление на религиозни храмове и мемориални паметници с културна и социална значимост | D86: Брой обновени храмове и мемориални паметници | E86: Брой | F86: НСИ, Община, ИСУН | G86: 1 година
A87: =ПрограмаРеализация!A205 -> Приоритет 4.1. Териториално сътрудничество в устойчиви транспортни системи | D87: Брой проекти по ТГС | E87: Брой | F87: НСИ, Община, ИСУН | G87: 1 година
A88: =ПрограмаРеализация!A206 -> Специфична цел 4.1.1.: Участие в териториални инициативи подкрепящи развитието на транспортните системи и логистика | D88: Брой на осъществените сътрудничества със съседни общини и области, подобряващи транспортната система; | E88: Брой | F88: НСИ, Община, ИСУН | G88: 1 година
A89: =ПрограмаРеализация!A207 -> Мярка 4.4.1.1. Подкрепа за проекти подобряващи териториалното сътрудничество в транспорта и логистиката | D89: Брой проекти реализирани в подкрепа на транспорта и логистиката | E89: Брой | F89: НСИ, Община, ИСУН | G89: 1 година
A90: =ПрограмаРеализация!A209 -> Приоритет 4.2. Териториално сътрудничество в сферата на приоритетни икономически дейности. | D90: Брой на осъществените сътрудничества с други градове, общини, административни области, региони, вкл. от съседни държави за реализацията на дейности от съвместен интерес (проекти/инициативи/прояви). | E90: Брой | F90: НСИ, Община, ИСУН | G90: 1 година
A91: =ПрограмаРеализация!A210 -> Специфична цел 4.2.1.: Развитие на приоритетните икономически дейности чрез териториално сътрудничество | D91: Брой проекти за териториално сътрудничество | E91: Брой | F91: НСИ, Община, ИСУН | G91: 1 година
A92: =ПрограмаРеализация!A211 -> Мярка 4.2.1.1. Участие в териториални инициативи подкрепящи развитието на транспорта, земеделието и алтернативния туризъм | D92: Брой териториални инициативи подкрепящи земеделието и туризма | E92: Брой | F92: НСИ, Община, ИСУН | G92: 1 година
A93: =ПрограмаРеализация!A214 -> Приоритет 4.3. Териториално сътрудничество на институционално ниво /регионални инициативи. | D93: Брой регионални инициативи | E93: Брой | F93: НСИ, Община, ИСУН | G93: 1 година
A94: =ПрограмаРеализация!A215 -> Специфична цел 4.3.1.: Развитие на институционалното сътрудничество чрез регионални инициативи | D94: Брой проекти за регионални иниацитиви на институционално ниво | E94: Брой | F94: НСИ, Община, ИСУН | G94: 1 година
A95: =ПрограмаРеализация!A216 -> Мярка 4.3.1.1. Участие в регионални и трансгранични инициативи и програми подобряващи социалното и икономическо развитие | D95: Брой проекти за регионални иниацитиви на институционално ниво подобряващи социално-икономическото развитие | E95: Брой | F95: НСИ, Община, ИСУН | G95: 1 година
A96: =ПрограмаРеализация!A218 -> Мярка 4.3.1.2. Участие в регионални и трансгранични инициативи и програми за подобряване на качеството на живот | D96: Брой проекти за регионални иниацитиви на институционално ниво подобряващи параметри на качеството на живот в общината | E96: Брой | F96: НСИ, Община, ИСУН | G96: 1 година

Sheet ПрограмаРеализация
A1: ПРОГРАМА ЗА РЕАЛИЗАЦИЯ НА ОПР СЛИВЕН 2014-2020
A2: Общински план за развитие на община Сливен 2014-2020
A3: Наименование | B3: Номер на проект | C3: Наименование | D3: Индикативна стойност | E3: Източник на финансиране | F3: Връзка с ИПГВР | G3: Отговорник | H3: Период на реализация
D4: хил. лв. | H4: 2014 | I4: 2015 | J4: 2016 | K4: 2017 | L4: 2018 | M4: 2019 | N4: 2020
C5: Общо всички приоритетни области | D5: =D6+D68+D151+D203 -> 309870 | F5: =F6+F68+F151+F203 -> #VALUE! | H5: =H6+H68+H151+H203 -> 1620 | I5: =I6+I68+I151+I203 -> 49360 | J5: =J6+J68+J151+J203 -> 97217.5 | K5: =K6+K68+K151+K203 -> 92717.5 | L5: =L6+L68+L151+L203 -> 37800 | M5: =M6+M68+M151+M203 -> 16975 | N5: =N6+N68+N151+N203 -> 10150
A6: ПРИОРИТЕТНА ОБЛАСТ 1. УСТОЙЧИВ ИКОНОМИЧЕСКИ РАСТЕЖ И ИНОВАЦИИ | D6: =D8 -> 82900 | F6: =F8 -> 0 | H6: =H8 -> 1620 | I6: =I8 -> 10580 | J6: =J8 -> 25360 | K6: =K8 -> 20590 | L6: =L8 -> 9950 | M6: =M8 -> 700 | N6: =N8 -> 100
A8: Стратегическа цел 1: Реализиране на икономически растеж основан на местния природен, културен и демографски потенциал, чрез иновации във водещите икономически дейности | D8: =D9+D24+D35+D55 -> 82900 | F8: =F9+F24+F35+F55 -> 0 | H8: =H9+H24+H35+H55 -> 1620 | I8: =I9+I24+I35+I55 -> 10580 | J8: =J9+J24+J35+J55 -> 25360 | K8: =K9+K24+K35+K55 -> 20590 | L8: =L9+L24+L35+L55 -> 9950 | M8: =M9+M24+M35+M55 -> 700 | N8: =N9+N24+N35+N55 -> 100
A9: Приоритет 1.1. Повишаване конкурентоспособността и иновативността на местната икономика. | D9: =D10 -> 17200 | F9: =F10 -> 0 | H9: =H10 -> 1570 | I9: =I10 -> 7000 | J9: =J10 -> 8130 | K9: =K10 -> 2700 | L9: =L10 -> 2600 | M9: =M10 -> 100 | N9: =N10 -> 100
A10: Специфична цел 1.1.1: Създаване на иновативна среда подкрепяща предприемаческите инициативи в община Сливен | D10: =D11+D17+D20 -> 17200 | F10: =F11+F17+F20 -> 0 | H10: =H11+H17+H20 -> 1570 | I10: =I11+I17+I20 -> 7000 | J10: =J11+J17+J20 -> 8130 | K10: =K11+K17+K20 -> 2700 | L10: =L11+L17+L20 -> 2600 | M10: =M11+M17+M20 -> 100 | N10: =N11+N17+N20 -> 100
A11: Мярка 1.1.1.1.: Подкрепа за инициативи, включително на СГО, насочени към обучения, преквалификация, разпространение на добри практики и информация сред предприемачите и работната сила от община Сливен; | D11: =SUM(D12:D16) -> 1700 | F11: =SUM(F12:F16) -> 0 | H11: =SUM(H12:H16) -> 170 | I11: =SUM(I12:I16) -> 850 | J11: =SUM(J12:J16) -> 680 | K11: =SUM(K12:K16) -> 0 | L11: =SUM(L12:L16) -> 0 | M11: =SUM(M12:M16) -> 0 | N11: =SUM(N12:N16) -> 0
B12: 1.1.1.1.1. | C12: Проект: Организиране на обучения за предприемачество в областта на земеделието и животновъдството | D12: 340 | E12: ПРСР/ОПАК и др. донорски програми | G12: Община | H12: =D12*0.5 -> 170 | I12: =D12*0.5 -> 170
B13: 1.1.1.1.2. | C13: Проект: Организиране на обучения за предприемачество и услуги в областта на туризма и ВЕИ | D13: 340 | E13: ПРСР/ОПАК и др. донорски програми | G13: Община | I13: =D13*0.5 -> 170 | J13: =D13*0.5 -> 170
B14: 1.1.1.1.3. | C14: Проект: Организиране на обучения и семинари за популяризиране на мерките на ПРСР | D14: 340 | E14: ПРСР/ОПАК и др. донорски програми | G14: Община | I14: =D14*0.5 -> 170 | J14: =D14*0.5 -> 170
B15: 1.1.1.1.4. | C15: Проект: Организиране на обучения съвместно с ВУЗ в областта на устойчив транспорт и туризъм | D15: 340 | E15: ПРСР/ОПАК и др. донорски програми | G15: Община | I15: =D15*0.5 -> 170 | J15: =D15*0.5 -> 170
B16: 1.1.1.1.4. | C16: Проект: Организиране на обучения и семинари за популяризиране на процедурите на ОП "Иновации и конкурентносособност" | D16: 340 | E16: ОПАК и др. донорски програми | G16: Община | I16: =D16*0.5 -> 170 | J16: =D16*0.5 -> 170
A17: Мярка 1.1.1.2.: Подкрепа за инициативи , вкл. на СГО насочени към опазването на околната среда, културното наследство и традициите в населените места от община Сливен | D17: =SUM(D18:D19) -> 2500 | F17: =SUM(F18:F19) -> 0 | H17: =SUM(H18:H19) -> 100 | I17: =SUM(I18:I19) -> 950 | J17: =SUM(J18:J19) -> 950 | K17: =SUM(K18:K19) -> 200 | L17: =SUM(L18:L19) -> 100 | M17: =SUM(M18:M19) -> 100 | N17: =SUM(N18:N19) -> 100
B18: 1.1.1.2.1. | C18: Проект: Подобряване на материално техническата база и капацитета на общинските културни обекти за съхранение на културното наследство | D18: 1500 | E18: МК/ПРСР и др. донорски програми | G18: Община | I18: =D18*0.5 -> 750 | J18: =D18*0.5 -> 750
B19: 1.1.1.2.2. | C19: Проект: Организиране на културни иниативи и събори основани на нематериалното културно наследство. Съставяне на културен календар. | D19: 1000 | E19: МК/ПРСР и др. донорски програми | G19: Община | H19: =D19*0.1 -> 100 | I19: =D19*0.2 -> 200 | J19: =D19*0.2 -> 200 | K19: =D19*0.2 -> 200 | L19: =D19*0.1 -> 100 | M19: =D19*0.1 -> 100 | N19: =D19*0.1 -> 100
A20: Мярка 1.1.1.3.: Създаване на индустриални зони, логистични паркове и центрове за развитие в община Сливен | D20: =SUM(D21:D22) -> 13000 | F20: =SUM(F21:F22) -> 0 | H20: =SUM(H21:H22) -> 1300 | I20: =SUM(I21:I22) -> 5200 | J20: =SUM(J21:J22) -> 6500 | K20: =SUM(K21:K23) -> 2500 | L20: =SUM(L21:L23) -> 2500 | M20: =SUM(M21:M22) -> 0 | N20: =SUM(N21:N22) -> 0
B21: 1.1.1.3.1. | C21: 1.1.1.3.1. Проект за създаване на високотехнологичен промишлен парк гр. Сливен | D21: 3000 | E21: МИП/Община и др. донорски програми | G21: Община | H21: =D21*0.1 -> 300 | I21: =D21*0.4 -> 1200 | J21: =D21*0.5 -> 1500
B22: 1.1.1.3.2. | C22: 1.1.1.3.2. Публично-частен проект за изграждане на логистичен парк за контейнери от пристанища Бургас и Текирдаг с интермодален транспорт в гр. Сливен | D22: 10000 | E22: ОПРР/МИП/МТ/ Община и др. донорски програми | G22: Община | H22: =D22*0.1 -> 1000 | I22: =D22*0.4 -> 4000 | J22: =D22*0.5 -> 5000
B23: 1.1.1.3.3. | C23: 1.1.1.3.3. Публично-частно партьнорство за създаване на бизнес инкубатор на територията на град Сливен | D23: 5000 | E23: ОПИК/Община и др. донорски програми | G23: Община | K23: =D23*0.5 -> 2500 | L23: =D23*0.5 -> 2500
A24: Приоритет 1.2. Създаване на благоприятни условия за привличане на инвестиции. Развитие на партньорства. | D24: =D25 -> 4500 | F24: =F25 -> 0 | H24: =H25 -> 50 | I24: =I25 -> 1175 | J24: =J25 -> 975 | K24: =K25 -> 850 | L24: =L25 -> 850 | M24: =M25 -> 600 | N24: =N25 -> 0
A25: Специфична цел 1.2.1: Подобряване на административните услуги за бизнеса и реализиране на успешни партньорства | D25: =D26+D29+D32 -> 4500 | F25: =F26+F29+F32 -> 0 | H25: =H26+H29+H32 -> 50 | I25: =I26+I29+I32 -> 1175 | J25: =J26+J29+J32 -> 975 | K25: =K26+K29+K32 -> 850 | L25: =L26+L29+L32 -> 850 | M25: =M26+M29+M32 -> 600 | N25: =N26+N29+N32 -> 0
A26: Мярка 1.2.1.1.: Създаване на експертен екип към община Сливен в подкрепа на местната администрация при реализирането на проекти с инвестиционен характер; | D26: =SUM(D27:D28) -> 500 | F26: =SUM(F27:F28) -> 0 | H26: =SUM(H27:H28) -> 50 | I26: =SUM(I27:I28) -> 325 | J26: =SUM(J27:J28) -> 125 | K26: =SUM(K27:K28) -> 0 | L26: =SUM(L27:L28) -> 0 | M26: =SUM(M27:M28) -> 0 | N26: =SUM(N27:N28) -> 0
B27: 1.2.1.1.1 | C27: Проект: Провеждане на обучение за управление на инвестиционни проекти за общинска администрация | D27: 250 | E27: ОПАК и др. донорски програми | G27: Община | I27: =D27*0.5 -> 125 | J27: =D27*0.5 -> 125
B28: 1.2.1.1.2 | C28: Проект: Инициране създаването на организация на предприемачи по ЗЮЛНЦ с участие на община Сливен | D28: 250 | E28: Община/ ОПИК и др. донорски програми | G28: Община | H28: =D28*0.2 -> 50 | I28: =D28*0.8 -> 200
A29: Мярка 1.2.1.2.: Реализиране на партньорства с ВУЗ в областта на изследванията на иновативни индустриални продукти, туризма, ВЕИ и биомаса. | D29: =SUM(D30:D31) -> 3000 | F29: =SUM(F30:F31) -> 0 | H29: =SUM(H30:H31) -> 0 | I29: =SUM(I30:I31) -> 600 | J29: =SUM(J30:J31) -> 600 | K29: =SUM(K30:K31) -> 600 | L29: =SUM(L30:L31) -> 600 | M29: =SUM(M30:M31) -> 600 | N29: =SUM(N30:N31) -> 0
B30: 1.2.1.2.1. | C30: Проект: Реализиране на научни изследвания чрез партньорски споразумения с ВУЗ в областта на иновативни индустриални продукти | D30: 1500 | E30: ФНИ/ОПИК и др. донорски програми | G30: Община | I30: =D30*0.2 -> 300 | J30: =D30*0.2 -> 300 | K30: =D30*0.2 -> 300 | L30: =D30*0.2 -> 300 | M30: =D30*0.2 -> 300
B31: 1.2.1.2.2. | C31: Проект: Реализиране на научни изследвания чрез партньорски споразумения с ВУЗ в областта на ВЕИ и енергията от биомаса | D31: 1500 | E31: ФНИ/ОПИК и др. донорски програми | G31: Община | I31: =D31*0.2 -> 300 | J31: =D31*0.2 -> 300 | K31: =D31*0.2 -> 300 | L31: =D31*0.2 -> 300 | M31: =D31*0.2 -> 300
A32: Мярка 1.2.1.3.: Реализиране на инициативи и партньорства със СГО подкрепящи комуникацията с организации на инвеститори и работодатели | D32: =SUM(D33:D34) -> 1000 | F32: =SUM(F33:F34) -> 0 | H32: =SUM(H33:H34) -> 0 | I32: =SUM(I33:I34) -> 250 | J32: =SUM(J33:J34) -> 250 | K32: =SUM(K33:K34) -> 250 | L32: =SUM(L33:L34) -> 250 | M32: =SUM(M33:M34) -> 0 | N32: =SUM(N33:N34) -> 0
B33: 1.2.1.3.1. | C33: Проект: Участие в национални изложения, конференции и консултации в секторите индустрия и транспорт | D33: 500 | E33: ОПИК/Община и др. донорски програми | G33: Община | I33: =D33*0.5 -> 250 | J33: =D33*0.5 -> 250
B34: 1.2.1.3.2. | C34: Проект: Участие в национални изложения, конференции и консултации в секторите алтернативен туризъм и ВЕИ | D34: 500 | E34: ПРСР и др. донорски програми | G34: Община | K34: =D34*0.5 -> 250 | L34: =D34*0.5 -> 250
A35: Приоритет 1.3. Развитие на устойчив висококачествен регионален туризъм и транспорт. | D35: =D36 -> 51400 | F35: =F36 -> 0 | H35: =H36 -> 0 | I35: =I36 -> 425 | J35: =J36 -> 10675 | K35: =K36 -> 13800 | L35: =L36 -> 6500 | M35: =M36 -> 0 | N35: =N36 -> 0
A36: Специфична цел 1.3.1: Оползотворяване на съществуващият потенциал за алтернативни форми на туризъм и транспорт | D36: =D37+D42+D47+D51+D53 -> 51400 | F36: =F37+F42+F47+F51 -> 0 | H36: =H37+H42+H47+H51 -> 0 | I36: =I37+I42+I47+I51 -> 425 | J36: =J37+J42+J47+J51 -> 10675 | K36: =K37+K42+K47+K51 -> 13800 | L36: =L37+L42+L47+L51 -> 6500 | M36: =M37+M42+M47+M51 -> 0 | N36: =N37+N42+N47+N51 -> 0
A37: Мярка 1.3.1.1.: Подкрепа за проекти създаващи условия за включване в туристически маршрути на защитени и културни обекти на територията на община Сливен | D37: =SUM(D38:D41) -> 4500 | F37: =SUM(F38:F41) -> 0 | H37: =SUM(H38:H41) -> 0 | I37: =SUM(I38:I41) -> 100 | J37: =SUM(J38:J41) -> 2100 | K37: =SUM(K38:K41) -> 2300 | L37: =SUM(L38:L41) -> 0 | M37: =SUM(M38:M41) -> 0 | N37: =SUM(N38:N41) -> 0
B38: 1.3.1.1.1 | C38: Проект: Изграждане, оборудване и организиране на дейността на Общински туристически и информационен център в местността "Карандила" | D38: 300 | E38: ОПРР/ОПИК/ Община и др. донорски програми | G38: Община | K38: =D38 -> 300
B39: 1.3.1.1.2 | C39: Съвместен проект с ВУЗ или БАН за изграждане на посетителски и изследователски природонаучен център и музей в местността "Карандила" с достъп за туристически посещения | D39: 3000 | E39: ОПРР/ОПИК/ Община и др. донорски програми | G39: Община | J39: =D39*0.5 -> 1500 | K39: =D39*0.5 -> 1500
B40: 1.3.1.1.3 | C40: Проект: Разработване на схеми, маршрутизиране и изграждане на веломаршрути, екопътени, заслони и друга прилежаща инфраструктура в местността Карандила | D40: 1000 | E40: ОПРР/ОПИК/ Община и др. донорски програми | G40: Община | J40: =D40*0.5 -> 500 | K40: =D40*0.5 -> 500
B41: 1.3.1.1.4 | C41: Проект: Разработване на система за електронни резервации за алтернативен туризъм /вело и природно познавалетелен/ в община Сливен | D41: 200 | E41: ОПРР/ОПИК/ Община и др. донорски програми | G41: Община | I41: =D41*0.5 -> 100 | J41: =D41*0.5 -> 100
A42: Мярка 1.3.1.2.: Подкрепа на инициативи за обновление и добавяне на стойност към природни и културни обекти на територията на община Сливен с туристическа значимост | D42: =SUM(D43:D46) -> 3700 | F42: =SUM(F43:F46) -> 0 | H42: =SUM(H43:H46) -> 0 | I42: =SUM(I43:I46) -> 125 | J42: =SUM(J43:J46) -> 575 | K42: =SUM(K43:K46) -> 1500 | L42: =SUM(L43:L46) -> 1500 | M42: =SUM(M43:M46) -> 0 | N42: =SUM(N43:N46) -> 0
B43: 1.3.1.2.1 | C43: Проект: Картотекиране, обследване, изготвяне на инфоматериали и изработване на маршрути на туристическите обекти в община Сливен в синхрон с възможностите за транспорт | D43: 250 | E43: ОПРР/ОПИК/ Община и др. донорски програми | G43: Община | J43: =D43 -> 250
B44: 1.3.1.2.2 | C44: Проект за създаване, организиране и пазарно онлайн предлагане на комбинирани туристически пакети /20 броя пакета/ за алтернативен туризъм и транспорт на територията на община Сливен | D44: 200 | E44: ОПРР/ОПИК/ Община и др. донорски програми | G44: Община | J44: =D44 -> 200
B45: 1.3.1.2.3 | C45: Проект с партньорство с ВУЗ или БАН за археологическо проучване, социализация и експониране като паметници на културата с национално значение на тракийските могили на територията на община Сливен. | D45: 3000 | E45: ОПРР/МК/НФМ /Община | G45: Община | K45: =D45*0.5 -> 1500 | L45: =D45*0.5 -> 1500
B46: 1.3.1.2.4 | C46: Публично-частен проект със СГО за популяризиране на община Сливен като туристическа дестинация | D46: 250 | E46: ПРСР | G46: Община | I46: =D46*0.5 -> 125 | J46: =D46*0.5 -> 125
A47: Мярка 1.3.1.3.: Реализиране на публично-частни партньорства с цел създаване на туристически атракциони и анимации с висока добавена стойност | D47: =SUM(D48:D50) -> 23000 | F47: =SUM(F48:F48) -> 0 | H47: =SUM(H48:H48) -> 0 | I47: =SUM(I48:I48) -> 0 | J47: =SUM(J48:J49) -> 8000 | K47: =SUM(K48:K50) -> 10000 | L47: =SUM(L48:L50) -> 5000 | M47: =SUM(M48:M48) -> 0 | N47: =SUM(N48:N48) -> 0
B48: 1.3.1.3.1. | C48: Публично-частен проект за изграждане на аквапарк Сливен в рамките на "Сливенски минерални бани" като туристическа дестинация | D48: 3000 | E48: Частен/ и др. донорски програми | G48: Община | J48: =D48 -> 3000
B49: 1.3.1.3.2. | C49: Публично-частен проект за изграждане на Балнеоложки и рехабилитационен здравен център в рамките на "Сливенски минерални бани" | D49: 10000 | E49: Частен/ и донорски програми | G49: Община | J49: =D49*0.5 -> 5000 | K49: =D49*0.5 -> 5000
B50: 1.3.1.3.3. | C50: Публично-частен проект за реконверсия на летище Сливен в мултифункционален спортен комплекс за екстремни спортове и състезания | D50: 10000 | E50: Частен/ и донорски програми | G50: Община | K50: =D50*0.5 -> 5000 | L50: =D50*0.5 -> 5000
A51: Мярка 1.3.1.4.: Подкрепа на инициативи и проекти водещи до подобряване на достъпа до информация за туристическото предлагане в общината | D51: =SUM(D52:D52) -> 200 | F51: =SUM(F52:F52) -> 0 | H51: =SUM(H52:H52) -> 0 | I51: =SUM(I52:I52) -> 200 | J51: =SUM(J52:J52) -> 0 | K51: =SUM(K52:K52) -> 0 | L51: =SUM(L52:L52) -> 0 | M51: =SUM(M52:M52) -> 0 | N51: =SUM(N52:N52) -> 0
B52: 1.3.1.4.1 | C52: Публично-частен проект за създаване на виртуален уеб базиран туристически информационен център и разработване на мобилни приложения популяризиращи обектите и маршрутите в община Сливен | D52: 200 | E52: Частен/ОПРР/ ОПИК | G52: Община | I52: =D52 -> 200
A53: Мярка 1.3.1.5.: Подкрепа на инициативи и проекти водещи до подобряване на транспорта и транспортната достъпност | D53: =SUM(D54:D54) -> 20000 | F53: =SUM(F54:F54) -> 0 | H53: =SUM(H54:H54) -> 0 | I53: =SUM(I54:I54) -> 0 | J53: =SUM(J54:J54) -> 10000 | K53: =SUM(K54:K54) -> 10000 | L53: =SUM(L54:L54) -> 0 | M53: =SUM(M54:M54) -> 0 | N53: =SUM(N54:N54) -> 0
B54: 1.3.1.5.1 | C54: Проект за интегриран градски транспорт на град Сливен и информационна GPS система | D54: 20000 | J54: =D54*0.5 -> 10000 | K54: =D54*0.5 -> 10000
A55: Приоритет 1.4. Развитие на модерно и конкурентноспособно земеделие | D55: =D56 -> 9800 | F55: =F56 -> 0 | H55: =H56 -> 0 | I55: =I56 -> 1980 | J55: =J56 -> 5580 | K55: =K56 -> 3240 | L55: =L56 -> 0 | M55: =M56 -> 0 | N55: =N56 -> 0
A56: Специфична цел 1.4.1: Повишаване на добавената стойност от земеделските и горски продукти | D56: =D57+D59+D61+D63+D66 -> 9800 | F56: =F57+F59+F61+F63+F66 -> 0 | H56: =H57+H59+H61+H63+H66 -> 0 | I56: =I57+I59+I61+I63+I66 -> 1980 | J56: =J57+J59+J61+J63+J66 -> 5580 | K56: =K57+K59+K61+K63+K66 -> 3240 | L56: =L57+L59+L61+L63+L66 -> 0 | M56: =M57+M59+M61+M63+M66 -> 0 | N56: =N57+N59+N61+N63+N66 -> 0
A57: Мярка 1.4.1.1.: Подкрепа на инициативи и проекти подобряващи средата на пазарно предлагане на земеделски и животински продукти | D57: =D58 -> 1000 | H57: =H58 -> 0 | I57: =I58 -> 200 | J57: =J58 -> 800 | K57: =K58 -> 0 | L57: =L58 -> 0 | M57: =M58 -> 0 | N57: =N58 -> 0
B58: 1.4.1.1.1 | C58: Публично-частен проект за изграждане на организиран пазар за пресни земеделски стоки, бензиностанция, ТИР паркинг и ресторант в землището на град Кермен | D58: 1000 | E58: Община/ Частен | G58: Община | I58: =D58*0.2 -> 200 | J58: =D58*0.8 -> 800
A59: Мярка 1.4.1.2.: Подкрепа за проекти оптимизиращи земеползването в нископродуктивни терени, чрез залесяване и други лесоустройствени мероприятия. | D59: =D60 -> 5000 | F59: =F60 -> 0 | H59: =H60 -> 0 | I59: =I60 -> 0 | J59: =J60 -> 2500 | K59: =K60 -> 2500 | L59: =L60 -> 0 | M59: =M60 -> 0 | N59: =N60 -> 0
B60: 1.4.1.2.1 | C60: Проект за почистване, презалесяване и създаване на депа за съхранение на дървесина за поддръжка коритата на реките в община Сливен | D60: 5000 | E60: Община/ОПОС и др. донорски програми | G60: Община | J60: =D60*0.5 -> 2500 | K60: =D60*0.5 -> 2500
A61: Мярка 1.4.1.3.: Подкрепа за проекти насочени към развитие на оранжерийно зеленчукопроизводство, трайни насаждения и култури с нови приложения. | D61: =D62 -> 3000 | F61: =F62 -> 0 | H61: =H62 -> 0 | I61: =I62 -> 1500 | J61: =J62 -> 1500 | K61: =K62 -> 0 | L61: =L62 -> 0 | M61: =M62 -> 0 | N61: =N62 -> 0
B62: 1.4.1.3.1 | C62: Публично-частен проект между зеленчукопроизводители и община Сливен за изграждане на модерен масив за интензивно зеленчукопроизводство | D62: 3000 | E62: Частен/ /Община/ и др. донорски програми | G62: Община | I62: =D62*0.5 -> 1500 | J62: =D62*0.5 -> 1500
A63: Мярка 1.4.1.4.: Подкрепа за проекти повишаващи модернизацията на земеделските стопанства | D63: =D64 -> 200 | F63: =F64 -> 0 | H63: =H64 -> 0 | I63: =I64 -> 100 | J63: =SUM(J64:J65) -> 600 | K63: =SUM(K64:K65) -> 500 | L63: =L64 -> 0 | M63: =M64 -> 0 | N63: =N64 -> 0
B64: 1.4.1.4.1 | C64: Проект за обучения по мерките на ПРСР | D64: 200 | E64: ОПАК Община и др. донорски програми | G64: Община | I64: =D64*0.5 -> 100 | J64: =D64*0.5 -> 100
B65: 1.4.1.4.2 | C65: Проект за водохващания от реките за осигуряване на напояване | D65: 1000 | E65: ОПАК Община и др. донорски програми | G65: Община | J65: =D65*0.5 -> 500 | K65: =D65*0.5 -> 500
A66: Мярка 1.4.1.5.: Подкрепа на инициативи на СГО и земеделски организации насочени към трансфер на технологии и „ноу-хау” в областта на биологичното земеделие | D66: =D67 -> 600 | F66: =F67 -> 0 | H66: =H67 -> 0 | I66: =I67 -> 180 | J66: =J67 -> 180 | K66: =K67 -> 240 | L66: =L67 -> 0 | M66: =M67 -> 0 | N66: =N67 -> 0
B67: 1.4.1.5.1 | C67: Публично-частен проект между организация земеделски производители, ВУЗ и община Сливен за създаване на център за обучения, обмен на технологии и добри практики в земеделието | D67: 600 | E67: ОПНОИР/СГО /Община | G67: Община | I67: =D67*0.3 -> 180 | J67: =D67*0.3 -> 180 | K67: =D67*0.4 -> 240
A68: ПРИОРИТЕТНА ОБЛАСТ 2. ЖИЗНЕН СТАНДАРТ И КАЧЕСТВО НА ЖИВОТ | D68: =D69 -> 82280 | F68: =F69 -> #VALUE! | H68: =H69 -> 0 | I68: =I69 -> 9620 | J68: =J69 -> 26107.5 | K68: =K69 -> 30127.5 | L68: =L69 -> 10100 | M68: =M69 -> 6275 | N68: =N69 -> 50
A69: Стратегическа цел 2: Подобряване на условията за живот, социалните услуги и личната сигурност | D69: =D70+D89+D123+D136+D145 -> 82280 | F69: =F70+F89+F123+F136+F145 -> #VALUE! | H69: =H70+H89+H123+H136+H145 -> 0 | I69: =I70+I89+I123+I136+I145 -> 9620 | J69: =J70+J89+J123+J136+J145 -> 26107.5 | K69: =K70+K89+K123+K136+K145 -> 30127.5 | L69: =L70+L89+L123+L136+L145 -> 10100 | M69: =M70+M89+M123+M136+M145 -> 6275 | N69: =N70+N89+N123+N136+N145 -> 50
A70: Приоритет 2.1. Подобряване качеството на образованието и създаване на условия за развитие на младите хора. | D70: =D71+D86 -> 48680 | F70: =F71+F86 -> 0 | H70: =H71+H86 -> 0 | I70: =I71+I86 -> 5620 | J70: =J71+J86 -> 14020 | K70: =K71+K86 -> 17390 | L70: =L71+L86 -> 6050 | M70: =M71+M86 -> 5550 | N70: =N71+N86 -> 50
A71: Специфична цел 2.1.1: Модернизиране на общинската образователна инфраструктура | D71: =D72+D81+D83 -> 48080 | F71: =F72+F81+F83 -> 0 | H71: =H72+H81+H83 -> 0 | I71: =I72+I81+I83 -> 5440 | J71: =J72+J81+J83 -> 13840 | K71: =K72+K81+K83 -> 17150 | L71: =L72+L81+L83 -> 6050 | M71: =M72+M81+M83 -> 5550 | N71: =N72+N81+N83 -> 50
A72: Мярка 2.1.1.1. Реализиране на проекти за ремонт, обновление и енергийна ефективност на училища и детски заведения публична общинска собственост | D72: =SUM(D73:D80) -> 47000 | F72: =SUM(F73:F80) -> 0 | H72: =SUM(H73:H80) -> 0 | I72: =SUM(I73:I80) -> 5000 | J72: =SUM(J73:J80) -> 13500 | K72: =SUM(K73:K80) -> 17000 | L72: =SUM(L73:L80) -> 6000 | M72: =SUM(M73:M80) -> 5500 | N72: =SUM(N73:N80) -> 0
B73: 2.1.1.1.1 | C73: Проект за ремонт, обновление и мерки за енергийна ефективност на детски заведения в селата от община Сливен | D73: 10000 | E73: ОПРР и др. донорски програми | G73: Община | I73: =D73*0.2 -> 2000 | J73: =D73*0.2 -> 2000 | K73: =D73*0.2 -> 2000 | L73: =D73*0.2 -> 2000 | M73: =D73*0.2 -> 2000
B74: 2.1.1.1.2 | C74: Проект за ремонт, обновление и мерки за енергийна ефективност на детски заведения в гр. Сливен | D74: 10000 | E74: ОПРР и др. донорски програми | G74: Община | I74: =D74*0.3 -> 3000 | J74: =D74*0.3 -> 3000 | K74: =D74*0.4 -> 4000
B75: 2.1.1.2.3 | C75: Проект за ремонт, обновление и мерки за енергийна ефективност основните, средните училища, гимназиите и професионалните гимназии в гр. Сливен | D75: 15000 | E75: ОПРР и др. донорски програми | G75: Община | J75: =D75*0.5 -> 7500 | K75: =D75*0.5 -> 7500
B76: 2.1.1.2.4 | C76: Проект за ремонт, обновление и мерки за енергийна ефективност на основните училища в селата от община Сливен | D76: 5000 | E76: ОПРР и др. донорски програми | G76: Община | K76: =D76*0.3 -> 1500 | L76: =D76*0.3 -> 1500 | M76: =D76*0.4 -> 2000
B77: 2.1.1.2.5 | C77: Проект за ремонт, обновление и мерки за енергийна ефективност на помощно училище в гр.Сливен | D77: 1000 | E77: ОПРР и др. донорски програми | G77: Община | L77: =D77*0.5 -> 500 | M77: =D77*0.5 -> 500
B78: 2.1.1.2.6 | C78: Проект за ремонт, обновление и мерки за енергийна ефективност на специализираните училища | D78: 2000 | E78: ОПРР и др. донорски програми | G78: Община | J78: =D78*0.5 -> 1000 | K78: =D78*0.5 -> 1000
B79: 2.1.1.2.7 | C79: Проект за ремонт, обновление и мерки за енергийна ефективност професионална гимназии в град Сливен по Хранене и земеделие | D79: 2000 | E79: ОПРР и др. донорски програми | G79: Община | K79: =D79*0.5 -> 1000 | L79: =D79*0.5 -> 1000
B80: 2.1.1.2.8 | C80: Проект за ремонт, обновление и мерки за енергийна ефективност професионална гимназии в град Сливен по производствени технологии | D80: 2000 | E80: ОПРР и др. донорски програми | G80: Община | L80: =D80*0.5 -> 1000 | M80: =D80*0.5 -> 1000
A81: Мярка 2.1.1.2. Реализиране на проекти за оптимизация и модернизация на транспорта на пътуващите ученици. | D81: =D82 -> 500 | F81: =F82 -> 0 | H81: =H82 -> 0 | I81: =I82 -> 250 | J81: =J82 -> 50 | K81: =K82 -> 50 | L81: =L82 -> 50 | M81: =M82 -> 50 | N81: =N82 -> 50
B82: 2.1.1.2.1 | C82: Пилотен проект за създаване на ученически велоалеи и маршрути, закупуване на велосипеди и изграждане на велостоянки в дворовете на училищата в град Сливен | D82: 500 | E82: МОН/ПРСР/ Община | G82: Община | I82: =D82*0.5 -> 250 | J82: =D82*0.1 -> 50 | K82: =D82*0.1 -> 50 | L82: =D82*0.1 -> 50 | M82: =D82*0.1 -> 50 | N82: =D82*0.1 -> 50
A83: Мярка 2.1.1.3. Подкрепа на инициативи на СГО и бизнеса насочени към професионално обучение в областите – предприемачество, биоземеделие, животновъдство и алтернативен туризъм. | D83: =SUM(D84:D85) -> 580 | F83: =SUM(F84:F85) -> 0 | H83: =SUM(H84:H85) -> 0 | I83: =SUM(I84:I85) -> 190 | J83: =SUM(J84:J85) -> 290 | K83: =SUM(K84:K85) -> 100 | L83: =SUM(L84:L85) -> 0 | M83: =SUM(M84:M85) -> 0 | N83: =SUM(N84:N85) -> 0
B84: 2.1.1.3.1 | C84: Публично частен проект за създаване на обучителен център по предприемачество, биоземеделие, животновъдство и алтернативен туризъм | D84: 380 | E84: Частен/ Община /ОПАК и др. донорски програми | G84: Община | I84: =D84*0.5 -> 190 | J84: =D84*0.5 -> 190
B85: 2.1.1.3.2 | C85: Публично частен проект за повишаване на капацитета на младежки неправителствени организации регистрирани на територията на община Сливен | D85: 200 | E85: СГО/Община и др. донорски програми | G85: Община | J85: =D85*0.5 -> 100 | K85: =D85*0.5 -> 100
A86: Специфична цел 2.1.2: Създаване на условия за пълно включване на децата в образователната система и превенция на ранното напускане | D86: =D87 -> 600 | F86: =F87 -> 0 | H86: =H87 -> 0 | I86: =I87 -> 180 | J86: =J87 -> 180 | K86: =K87 -> 240 | L86: =L87 -> 0 | M86: =M87 -> 0 | N86: =N87 -> 0
A87: Мярка 2.1.2.1. Реализиране на проекти за разширяване капацитета на учебните заведения към работата с деца от социално уязвими групи | D87: =D88 -> 600 | F87: =F88 -> 0 | H87: =H88 -> 0 | I87: =I88 -> 180 | J87: =J88 -> 180 | K87: =K88 -> 240 | L87: =L88 -> 0 | M87: =M88 -> 0 | N87: =N88 -> 0
B88: 2.1.2.1.1 | C88: Проект за социализиране, адаптиране и превенция на ранното напускане на училище от деца от социално уязвими групи. | D88: 600 | E88: МОН/ПРСР/ Община/ТГС/ НФМ | G88: Община | I88: =D88*0.3 -> 180 | J88: =D88*0.3 -> 180 | K88: =D88*0.4 -> 240
A89: Приоритет 2.2. Създаване на възможности за трудова заетост, намаляване на бедността и риска от социална изолация. | D89: =D90+D96 -> 15950 | F89: =F90+F96 -> 0 | H89: =H90+H96 -> 0 | I89: =I90+I96 -> 1600 | J89: =J90+J96 -> 5237.5 | K89: =K90+K96 -> 5337.5 | L89: =L90+L96 -> 3150 | M89: =M90+M96 -> 625 | N89: =N90+N96 -> 0
A90: Специфична цел 2.2.1: Подобряване на условията за заетост и професионална реализация на всички социални групи | D90: =D91+D93 -> 1100 | F90: =F91+F93 -> 0 | H90: =H91+H93 -> 0 | I90: =I91+I93 -> 175 | J90: =J91+J93 -> 300 | K90: =K91+K93 -> 250 | L90: =L91+L93 -> 250 | M90: =M91+M93 -> 125 | N90: =N91+N93 -> 0
A91: Мярка 2.2.1.1. Реализиране на проекти насочени към наемане на младежи на възраст до 29 години и дългосрочно безработни | D91: =D92 -> 500 | F91: =F92 -> 0 | H91: =H92 -> 0 | I91: =I92 -> 125 | J91: =J92 -> 125 | K91: =K92 -> 125 | L91: =L92 -> 125 | M91: =M92 -> 0 | N91: =N92 -> 0
B92: 2.2.1.1.1. | C92: Публично-частен проект с НПО в подкрепа обучение, трудова адаптация, социализация на работното място на младежи до 29г., трайнобезработни лица и роми | D92: 500 | E92: МТСП/Община/ ПРСР | G92: Община | I92: =D92*0.25 -> 125 | J92: =D92*0.25 -> 125 | K92: =D92*0.25 -> 125 | L92: =D92*0.25 -> 125
A93: Мярка 2.2.1.2. Реализиране на инициативи и проекти в подкрепа на полупазарните стопанства за повишаването на самонаемането | D93: =SUM(D94:D95) -> 600 | F93: =SUM(F94:F95) -> 0 | H93: =SUM(H94:H95) -> 0 | I93: =SUM(I94:I95) -> 50 | J93: =SUM(J94:J95) -> 175 | K93: =SUM(K94:K95) -> 125 | L93: =SUM(L94:L95) -> 125 | M93: =SUM(M94:M95) -> 125 | N93: =SUM(N94:N95) -> 0
B94: 2.2.1.1.2. | C94: Публично-частен проект с НПО в подкрепа на полупазарни стопанства на младежи до 29г.,трайнобезработни лица и роми получили обучение по проект 2.2.1.1.1. | D94: 500 | E94: СГО/Община/ и др. донорски програми | G94: Община | J94: =D94*0.25 -> 125 | K94: =D94*0.25 -> 125 | L94: =D94*0.25 -> 125 | M94: =D94*0.25 -> 125
B95: 2.2.1.1.2. | C95: Проект за обучения по мерките на ПРСР за полупазарните стопанства насочен към социално уязвими групи | D95: 100 | E95: СГО/Община/ и др. донорски програми | G95: Община | I95: =D95*0.5 -> 50 | J95: =D95*0.5 -> 50
A96: Специфична цел 2.2.2: Развитие на социалните услуги и социално включване в селата | D96: =D97+D99+D104+D106+D109+D112+D114+D116+D118 -> 14850 | F96: =F97+F99+F104+F106+F109+F112+F114+F116+F118 -> 0 | H96: =H97+H99+H104+H106+H109+H112+H114+H116+H118 -> 0 | I96: =I97+I99+I104+I106+I109+I112+I114+I116+I118 -> 1425 | J96: =J97+J99+J104+J106+J109+J112+J114+J116+J118 -> 4937.5 | K96: =K97+K99+K104+K106+K109+K112+K114+K116+K118 -> 5087.5 | L96: =L97+L99+L104+L106+L109+L112+L114+L116+L118 -> 2900 | M96: =M97+M99+M104+M106+M109+M112+M114+M116+M118 -> 500 | N96: =N97+N99+N104+N106+N109+N112+N114+N116+N118 -> 0
A97: Мярка 2.2.2.1. Реализиране на проекти за социални грижи в домашна среда – социален личен асистент, домашен помощник. | D97: =D98 -> 1000 | F97: =F98 -> 0 | H97: =H98 -> 0 | I97: =I98 -> 500 | J97: =J98 -> 250 | K97: =K98 -> 250 | L97: =L98 -> 0 | M97: =M98 -> 0 | N97: =N98 -> 0
B98: 2.2.2.1.1 | C98: Проект социални грижи в домашна среда, личен асистент и домашен помощник за възрастни и уязвими лица | D98: 1000 | E98: МТСП/Община | G98: Община | I98: =D98*0.5 -> 500 | J98: =D98*0.25 -> 250 | K98: =D98*0.25 -> 250
A99: Мярка 2.2.2.2. Реализиране на проекти водещи до разширяване на услугата социален патронаж и обществена трапезария | D99: =D100 -> 350 | H99: =H100 -> 0 | I99: =I100 -> 175 | J99: =J100 -> 87.5 | K99: =K100 -> 87.5 | L99: =L100 -> 0 | M99: =M100 -> 0 | N99: =N100 -> 0
B100: 2.2.2.2.1 | C100: Проект: Надграждане на дейностите, преоборудване на базата на социална услуга социален патронаж и обществена трапезария | D100: 350 | E100: Община/ МТСП и др. донорски програми | G100: Община | I100: =D100*0.5 -> 175 | J100: =D100*0.25 -> 87.5 | K100: =D100*0.25 -> 87.5
A101: Мярка 2.2.2.3. Реализиране на проекти за създаване на дневни центрове за грижи за възрастни хора и лица с увреждания | D101: =SUM(D102:D103) -> 1000 | F101: =SUM(F102:F103) -> 0 | H101: =SUM(H102:H103) -> 0 | I101: =SUM(I102:I103) -> 250 | J101: =SUM(J102:J103) -> 500 | K101: =SUM(K102:K103) -> 250 | L101: =SUM(L102:L103) -> 0 | M101: =SUM(M102:M103) -> 0 | N101: =SUM(N102:N103) -> 0
...

Sheet ИПГВР
A1: СПИСЪК НА ПРОЕКТИ ПО ТЕМАТИЧНИ ОБЛАСТИ ВКЛЮЧЕНИ В ЗОНИТЕ ЗА ВЪЗДЕЙСТВИЕ ОТ ИПГВР НА ГРАД СЛИВЕН
A4: ОБЛАСТ: ТРАНСПОРТ И ИНФРАСТРУКТУРА –
A7: № | B7: Име на проекта | C7: Местоположение | D7: Водеща община | E7: Фаза на проекта | F7: Дата на стартиране | G7: Бюджет на проекта | H7: Източници на финансиране | I7: Цели и очаквани резултати
C8: (общини, населени места) | E8: (етап на подготовка) | F8: и приключване | G8: (в хил. лв.)
A10: 1 | B10: Изграждане на система за интегриран градски транспорт в гр. Сливен | C10: Сливен | D10: Община Сливен | E10: Идейна | F10: 2014 – 2016 | G10: 35 – 45 млн. лв. | H10: ЕФРР | I10: Подобряване условията в градския транспорт и обслужването на населените. Повишаване мобилността на населението.
A17: 2 | B17: Рехабилитация на уличната мрежа на гр.Сливен и малките населени места | C17: Сливен и | D17: Община Сливен | E17: Идейна | F17: 2014 – 2016 | G17: 25 млн. лв. | H17: ЕФРР, републикански и общински бюджет | I17: Подобряване на условията за живот в градската среда, създаване на условия за привличане на инвеститори и повишаване на туристопотока
C18: 42 населени места от общината
A24: 3 | B24: Корекция на реките, преминаващи през гр.Сливен и благоустрояване на околните пространства | C24: Сливен | D24: Община Сливен | E24: Идейна | F24: 2014 – 2016 | G24: 15 млн. лв. | H24: ЕФРР | I24: Превенция на рисковете от наводнения, създаване на приятна градска среда
H25: и общински бюджет
A33: 4 | B33: Изграждане на пътен възел „Розова градина” | C33: Сливен | D33: Община Сливен | E33: Идейна | F33: 2014 – 2015 | G33: 3,5 млн. лв. | H33: ЕФРР | I33: Подобряване на пътните условия в централната част на града, улесняване на населението и намаляване на риска от ПТП
H34: и общински бюджет
A36: 5 | B36: Рехабилитация на ІV класната пътна мрежа на община Сливен | C36: Община Сливен | D36: Община Сливен | E36: Идейна | F36: 2014 – 2020 | G36: 25 млн. лв. | H36: ЕФРР, републикански и общински бюджет | I36: Подобряване на достъпността на територията на цялата община, създаване на условия за привличане на инвеститори и повишаване на туристопотока
A38: 6 | B38: Реконструкция на ВВМ в населените места на община Сливен | C38: Населените места на община Сливен | D38: Община Сливен | E38: Идейна | F38: 2014 – 2020 0 | G38: 50 млн. лв. | H38: ЕФРР, републикански и общински бюджет | I38: Снабдяване на населението със задоволително по качество и количество питейна вода;
I39: Ограничаване на загубите на вода във водопреносната мрежа;
I40: Увеличаване дела на свързаните към водопреносната мрежа домакинства, чрез рехабилитация и изграждане на нови водопреносни системи.
A46: ОБЛАСТ: ИКОНОМИКА
A48: № | B48: Име на проекта | C48: Местоположение | D48: Водеща община | E48: Фаза на проекта | F48: Дата на стартиране | G48: Бюджет на проекта | H48: Източници на финансиране | I48: Цели и очаквани резултати
C49: (общини, населени места) | E49: (етап на подготовка) | F49: и приключване | G49: в хил. лв.
A51: 1 | B51: Изграждане на нови високотехнологични производства, които генерират висока добавена стойност | C51: Сливен | D51: Община Сливен | E51: подготовка | F51: 2014 - 2020 | G51: 30 - 50 млн. лв. | H51: ПЧП | I51: Привличане на инвестиции и създаване на нови производствени предприятия на база установени традиции в промишления профил на общината в съчетание с нови високотехнологични производства.
I52: Индустриално производство, основано на привлечени нови високотехнологични производства, които генерират висока добавена стойност и имат нужда от висококвалифицирани специалисти като се използват базите на новосъздадените промишлени предприятия и опита на местните професионалните гимназии.
A53: 2. | B53: Създаване на научен/технологичен/бизнес парк | C53: Сливен | D53: Община Сливен | E53: Подготовка | F53: 2016 - 2020 | G53: 10 000 000 | H53: ЕФРР и ПЧП | I53: Постигане на ефект на синергия при партньорството между мести власти, предприемачи и научни и неправителствени организации. Изграждане на МСП на терени общинска собственост, подпомагани от научни, лесни за внедряване в производство технологии.
A59: ОБЛАСТ КУЛТУРА
A60: № | B60: Име на проекта | C60: Местоположение | D60: Водеща община | E60: Фаза на проекта | F60: Дата на стартиране | G60: Бюджет на проекта | H60: Източници на финансиране | I60: Цели и очаквани резултати
C61: (общини, населени места) | E61: (етап на подготовка) | F61: и приключване | G61: в хил. лв.
A63: 1. | B63: МДФТ „Приятелство без граници” | C63: Сливен и селищата от общината и региона | D63: Сливен | E63: Проект в реализация | F63: Септември | G63: 200 | H63: Общ. Бюджет, МК, донори | I63: Насърчаване на културното многообразие и диалога между културите, приобщаване на децата и младите хора
F64: май 2014 - 2020
A68: 2. | B68: Фолклорен събор „На събор край Тунджа” | C68: Селищата по поречието на р. Тунджа | D68: Сливен | E68: Проектна готовност | F68: Януари – юли 2014 - 2020 | G68: 50 | H68: Международни програми, донори, МК | I68: Надграждане на съществуващ регионален събор и превръщането му в международен, в място за насърчаване и съхраняване на местната традиция и диалога между културите на селищата от страната и съседните страни по поречието на р. Тунджа
A78: 3. | B78: Фестивал на изкуствата „Магията на вятъра” | C78: Сливен | D78: Сливен | E78: Проект в реализация | F78: Септември – юни 2014 - 2020 | G78: 100 | H78: МК, донори, общ. Бюджет | I78: Подкрепа синтеза между изкуствата, диалога между културите, новите форми за творческо изразяване
A83: 5. | B83: Създаване на електронен регистър на нематериалното културно наследство | C83: Сливен и селищата от региона | D83: Сливен | E83: Начална | F83: 2014 -2016 | G83: 50 | H83: международни програми, общ.бюджет, МК | I83: Съхраняване на нематериалното културно наследство, подкрепа на творческия потенциал на местната общност
A90: 6. | B90: Изграждане на общински културно-информационен център | C90: Сливен | D90: Сливен | E90: Идейна | F90: 2014-2016 | G90: 500 | H90: международни програми, донори | I90: Достъп на гражданите до информация, чрез въвеждане на съвременните технологии
A95: 7. | I95: Достъп на местната общност до услуги, информация, културен продукт и дейност
B96: Читалищата – съвременни мултифункционални центрове | C96: Сливен и селищата от общината | D96: Сливен | E96: Начална | F96: 2014 -2018 | G96: 500 | H96: международни проекти, МК, донори, общ. Бюджет
A100: 8. | B100: Национален фестивал на детската книга | C100: Сливен | D100: Сливен | E100: Проект в изпълнение | F100: Септември-май 2014 - 2020 | G100: 50 | H100: международни проекти, МК, донори, общ. Бюджет | I100: Приобщаване на децата към културните процеси чрез общуване с творци и насърчаване на интереса към книгата и четенето
A106: 9. | B106: Дигитализация на фондовете на РИМ и ХГ | C106: Сливен | D106: Сливен | E106: Идейна фаза | F106: 2014 - 2018 | G106: 200 | I106: Прилагане на съвременни методи за съхранение и представяне на движимото културно наследство
H107: международни програми, МК, общ. бюджет
A112: ОБЛАСТ: ОБРАЗОВАНИЕ
A114: № | B114: Име на проекта | C114: Местоположение | D114: Водеща община | E114: Фаза на проекта | F114: Дата на стартиране | G114: Бюджет на проекта | H114: Източници на финансиране | I114: Цели и очаквани резултати
C115: (общини, населени места) | E115: (етап на подготовка) | F115: и приключване | G115: в хил. лв.
A117: 1. | B117: Саниране и обновяване на материално-техническата база в учебни и детски заведения. | C117: Община Сливен | D117: Община Сливен | E117: Подготовка | F117: 2014-2018 | G117: 15 млн. лв. | H117: ЕФРР | I117: Подобряване условията на учебния процес
A123: 3 | B123: Реинтеграция на отпаднали ученици в образователна-та система. | C123: Община Сливен | D123: Община Сливен | E123: Подготовка | F123: 2014-2020 | G123: 1 млн. лв. | H123: ЕСФ | I123: Ограничаване броя на отпадналите деца и ученици, подлежащи на задължително обучение.
A127: 4 | B127: Подобряване качеството на образованието в средищните училища, чрез продължаване целодневната организация на обучение. | C127: Община Сливен | D127: Община Сливен | E127: Подготовка | F127: 2014-2020 | G127: 9 млн. лв. | H127: ЕСФ | I127: Максимален обхват на децата и учениците, подлежащи на задължително обучение.
A136: 5 | B136: Откриване на медицински колеж, филиал на Медицински университет Варна или Стара Загора | C136: Община Сливен | D136: Община Сливен | E136: Подготовка | F136: 2014-2015 | G136: 3 млн. лв. | H136: ЕФРР и ЕСФ | I136: Обновяване на материално-техническата база и привеждането й към съвременните изисквания и обучение на специалисти в сферата на здравеопазването с възможности за реализация в здравни и учебни заведения като се отговори на изключително високите нужди на пазара на труда от добре подготвени кадри.
A140: 6 | B140: Откриване на колеж по икономика и администрация – частен колеж | C140: Община | D140: Община | E140: Подготовка | F140: 2014-2015 | G140: 2 млн. лв. | H140: ЕФРР и ЕСФ; ПЧП | I140: Увеличаване броя на висококвалифицираните специалисти за нуждите на пазара на труда.
A145: ОБЛАСТ: СОЦИАЛНИ ДЕЙНОСТИ
A146: (Примерни проекти : 1. Интегрирани услуги за ранно детско развитие; 2. Деинституализация на грижата за възрастни хора и хора с увреждания;
A147: 3. Интегрирани междусекторни услуги за бездомни хора и др.; )
A148: № | B148: Име на проекта | C148: Местоположение | D148: Водеща община | E148: Фаза на проекта | F148: Дата на стартиране | G148: Бюджет на проекта | H148: Източници на финансиране | I148: Цели и очаквани резултати
C149: (общини, населени места) | E149: (етап на подготовка) | F149: и приключване | G149: в хил. лв.
A151: 1. | B151: Реализиране процеса на деинституционализация услугите за деца на местно ниво | C151: Община Сливен | D151: Община Сливен | E151: В етап на подготовка | F151: 2014-2020 г. | G151: 10 млн.лв. | H151: ОП „РЧР”, ЕСФ, други източници | I151: Изпълнение на конкретни стъпки за реализиране на местно ниво на национални проекти за деинституционализация, обхващащи Домовете за медико-социални грижи за деца (ДМСГД), Домовете за деца с увреждания (ДДУИ, ДДФУ), развитие на Приемната грижа, повишаване капацитета на доставчици на социални услуги
A163: 2. | B163: Общностен център за деца и семейства | C163: Община Сливен | D163: Община Сливен | E163: В етап на подготовка | F163: 2014-2020 г. | G163: 1,25 млн. лв. | H163: Световна банка, ОП „РЧР” | I163: Развиване на устойчив модел за интегрирано предлагане на услуги за деца от 0 до 7 г. и техните семейства
B164: Проект
A168: 3 | B168: Създаване модел на устойчиво предлагане услуги на уязвими хора | C168: Община Сливен | D168: Община Сливен | E168: В етап на подготовка | F168: 2014 - 2020 | G168: 7 млн.лв. | H168: ОП „РЧР” ЕСФ, други източници | I168: Развиване на местно ниво на направление „Помощник у дома” чрез повишаване капацитета на Домашен социален патронаж и интегрирано предоставяне на социални услуги в общността- Социален асистент, личен асистент, Домашен помощник
A176: 4 | B176: Дневен център за възрастни хора с увреждания | C176: Град Сливен | D176: Община Сливен | E176: В етап на подготовка | F176: 2014 - 2020 г. | G176: 1,2 млн. лв. | H176: Държавно делегирано финансиране | I176: Предоставяне на услуги в общността за хора, които са в частична или пълна невъзможност за самообслужване и социална изолация
A181: 5 | B181: Защитени жилища | C181: Град Сливен | D181: Община Сливен | E181: В етап на подготовка | F181: 2014-2020 | G181: 2,4 млн. лв. | H181: Държавно делегирано финансиране | I181: Предотвратяване на социалната изолация на хора с увреждания и предоставяне на услуги в общността
A186: 6 | B186: Център за социална рехабилитация и интеграция за хора с увреждания | C186: Град Сливен | D186: Община Сливен | E186: В етап на подготовка | F186: 2015 - 2020 | G186: 6 млн. лв. | H186: Държавно делегирано финансиране | I186: Предоставяне на социални услуги в общността за специфични рискови групи от населението
A193: 7 | B193: Дом за стари хора | C193: Град Сливен | D193: Община Сливен | E193: В етап на подготовка | F193: 2014-2020 | G193: 18 млн. лв. | H193: Държавно делегирано финансиране | I193: Предоставяне на социални услуги за стари хора
A196: 8 | B196: Устойчивост на съществуващата мрежа от социални услуги на местно ниво | C196: Община | D196: Община | E196: В процес на | F196: 2014- 2020г. | G196: 50 млн. лв. | H196: Държавно делегирано | I196: Развиване на системата от съществуващи социални услуги в общността и от резиденнет тип на местно ниво- КСУДС, ЦОП, З „МБ”, ЦРДУ, Дневни центрове, ЦНСТ, Защитени жилища, ЦСРИ, Домашен социален патронаж и др.
H197: Финансиране
A206: ОБЛАСТ: ЗДРАВЕОПАЗВАНЕ
A207: (Примерни проекти:1. Реконструкция и разширение на университетски болници, както и доставка на медицинско оборудване- скенери, ехографи и т.н.2. Районни /областни болници, болници с родилни отделения, спешна помощ, 3.Центрове за хемодиализа- реконструкция, обновяване и доставка на апаратура,4. Детски болници и отделения)
A208: № | B208: Име на проекта | C208: Местоположение | D208: Водеща община | E208: Фаза на проекта | F208: Дата на стартиране | G208: Бюджет на проекта | H208: Източници на финансиране | I208: Цели и очаквани резултати
C209: (общини, населени места) | E209: (етап на подготовка) | F209: и приключване | G209: в хил. лв.
A211: 1 | B211: Превенция на социалнозначими болести | C211: Сливен и населените места на общината | D211: Община Сливен | E211: подготовка | F211: 2014 – 2020 | G211: 350 хил. лв. | H211: Национални програми и ЕСФ | I211: Обучение на населението за предпазване от болести: туберкулоза, ХИВ/СПИН, хепатит и др.
A212: 2 | B212: Доизгражадане на кухни-майки за детските ясли | C212: Сливен | D212: Община Сливен | E212: Идейна | F212: 2014 - 2015 | G212: 2,5 млн. лв. | H212: ЕФРР, общински и републикански бюджет | I212: Завършване на проект за изграждане на система за хранене в детските ясли, която отговаря на съвременните изисквания – система HACCP / ХАСЕП
A216: ОБЛАСТ: ТУРИЗЪМ
A218: № | B218: Име на проекта | C218: Местоположение | D218: Водеща община | E218: Фаза на проекта | F218: Дата на стартиране | G218: Бюджет на проекта | H218: Източници на финансиране | I218: Цели и очаквани резултати
C219: (общини, населени места) | E219: (етап на подготовка) | F219: и приключване | G219: в хил. лв.
A221: 1. | B221: Експониране на могилите от тракийската епоха край Сливен, създаване на атракции към тях и разширение на РИМ-Сливен | C221: Сливен | D221: Община Сливен | E221: подготовка | F221: 2015 - 2017 | G221: 5 000 000 | H221: ЕФРР | I221: Развитие на конкурентноспособни туристически атракции, които допринасят за диверсификация на туристическия продукт, повишаване на ползите от туризма и развитие на местната икономика.
A223: 2 | B223: Разработване на туристически пакети с туристически маршрути и тяхната социализация и популяризация | C223: Община Сливен и съседните й | D223: Община Сливен | E223: Подготовка | F223: 2014 – 2016 | G223: 3 000 000 | H223: ЕФРР | I223: Развитие на регионални туристически
I224: продукти, повишаване на ползите от туризма и развитие на местната икономика.
A227: 3 | B227: Изготвяне и реализация на интегриран проект за развитие на Сливенски минерални бани | C227: Сливенски минерални бани | D227: Община Сливен | E227: подготовка | F227: 2015 - 2018 | G227: 15 – 25 млн. лв. | H227: ПЧП и ЕФРР | I227: Превръщане на района на Сливенски минерални бани във предпочитано място за балнео-санаториумно лечение на българските и чуждестранни туристи чрез изграждане на съвременна база и облагородяване на целия прилежащ терен
A228: 4 | B228: Изготвяне и реализация на интегриран проект за развитие на местност „Карандила“ | C228: Сливен, ПП „Сините камъни” | D228: Община Сливен | E228: подготовка | F228: 2016 - 2020 | G228: 15 – 25 млн. лв. | H228: ПЧП и ЕФРР | I228: Изграждане на съвременна почивна база със съпътстващи атракции и тяхното популяризиране сред български и чуждестранни туристи
A232: ОБЛАСТ: ЕКОЛОГИЯ
A233: (Примерни проекти : 1. Изграждане на магистрални водопроводи; 2. Оползотворяване и рециклиране на отпадъци; 3. Пречистване на отпадни води;
A234: 4. Управление на риска от наводнения)
A235: № | B235: Име на проекта | C235: Местоположение | D235: Водеща община | E235: Фаза на проекта | F235: Дата на стартиране | G235: Бюджет на проекта | H235: Източници на финансиране | I235: Цели и очаквани резултати
C236: (общини, населени места) | E236: (етап на подготовка) | F236: и приключване | G236: в хил. лв.
A238: 1 | B238: Завършване и пускане в експлоатация на ПСПВ-Сливен | C238: Сливен | D238: Община Сливен | E238: Работна | F238: 2014 – 2015 | G238: 17 млн. лв. | H238: Републикански бюджет | I238: Подобряване качеството на водата, подавана към населените на гр. Сливен
A239: 2. | B239: Изграждане на канализационни мрежи и ПСОВ в населените места от 2-10 екв.ж. | C239: Населените места от 2-10екв.ж. на община Сливен | D239: Община Сливен | E239: Идейна | F239: 2014 - 2020 | G239: 150 млн. лв. | H239: Кохезионен фонд, републикански и общински бюджети | I239: Увеличаване броя на домакинствата, свързани към канализационни системи;
I240: Намаляване течовете и инфилтрацията в канализационните системи и замърсяването на околната среда;
A246: ОБЛАСТ: ТЕРИТОРИАЛНО СЪТРУДНИЧЕСТВО
A248: № | B248: Име на проекта | C248: Местоположение | D248: Водеща община | E248: Фаза на проекта | F248: Дата на стартиране | G248: Бюджет на проекта | H248: Източници на финансиране | I248: Цели и очаквани резултати
C249: (общини, населени места) | E249: (етап на подготовка) | F249: и приключване | G249: в хил. лв.
A251: 1 | B251: Реновация и надграждане на информационната мрежа на община Сливен | C251: Сливен | D251: Община Сливен | E251: Подготовка | F251: 2014 - 2016 | G251: 500 хил. лв. | H251: ЕФРР и Общ. бюджет | I251: Подобряване бързодействието на административните услуги, качеството и надеждността на мрежата
A252: 2 | B252: Свързване на всички населени места в една мрежа | C252: 42 нас. места от общината | D252: Община Сливен | E252: изпълнение | F252: 2014 | G252: 20 хил.лв. | H252: ЕФРР и Общ. бюджет | I252: Завършване на проект „Свързаност на населените места”
A253: 3 | B253: Разширяване на системата за видеонаблюдение на важни общински обекти | C253: Община Сливен и нас.места | D253: Община Сливен | E253: изпълнение | F253: 2014 – 2016 | G253: 25 хил.лв. | H253: ЕФРР и Общ. бюджет | I253: Завършване на проект „Изграждане на система за видеонаблюдение на важни общински обекти”

Sheet ИПГВР-ТП
A1: Списък на проекти подадени от община Сливен за техническа помощ, включени в ИПГВР на гр. Сливен
A3: 2. Списък на предложените обекти
A5: # | B5: Наименование на обекта | C5: Зона за въздействие от ИПГВР | D5: Съответствие с териториалния обхват на зоната
A6: 1 | B6: Прединвестиционно проучване, финансов анализ и АРП за проект "Интегриран градски транспорт гр. Сливен" | C6: Всички | D6: Строителните граници на града
A7: 2 | B7: Благоустрояване на поречието по двата бряга на река Асеновска между мостовете на бул. „Тракия“ и ул. „Генерал Скобелев“ по протежение на ул. „6-ти септември“, ул. „Димитър Пехливанов Добрович“, р. Асеновска, между мостовете на бул. „Тракия“ и ул. „Генерал | C7: Зона с преобладаващ социален характер | D7: кв. 86 и кв. 94 на кв. Комлука и прилежащите на р. Асеновска зони в северната част на кв. Клуцохор
A8: 3 | B8: Облагородяване и благоустрояване на парк „Хамам баир“ - проектиране на алейна мрежа и велоалеи; детски и спортни площадки; туристически маршрути; елементи на градското обзавеждане (обществена тоалетна, кошчета, осветление, озеленяване, др.). | C8: Зона с преобладаващ социален характер | D8: Парк "Хамам баир"
A9: 4 | B9: Реконструкция и основен ремонт на изложбена зала „Сирак Скитник“ – архитектурно заснемане, конструктивно обследване, енергиен одит, инвестиционно проектиране. | C9: Зона на публични функции с висока обществена значимост | D9: Обектът се намира в гр. Сливен, кв.139, им. пл. №№ 5526, 5527 по плана на град Сливен
A10: 5 | B10: Реконструкция и основен ремонт на Детска градина „Детство“ и благоустрояване на дворното й пространство – архитектурно заснемане, конструктивно обследване, енергиен одит, инвестиционно проектиране. | C10: Зона с преобладаващ социален характер | D10: Сграда и дворно място, съставляващи поземлен имот II-7095, кв.662 по плана на гр. Сливен, ж.к. "Младост"
A11: 6 | B11: Реконструкция и основен ремонт на Детска градина „Зорница“ и проектиране на топла връзка между централен корпус и физкултурен салон и благоустрояване на дворното й пространство – архитектурно заснемане, конструктивно обследване, енергиен одит, инвестицио | C11: Зона с преобладаващ социален характер | D11: Сграда и дворно място, съставляващи поземлен имот 10171 по плана на гр. Сливен, ж.к. „Стоян Заимов“
A12: 7 | B12: Реконструкция и основен ремонт на Детска градина „Мак“ и благоустрояване на дворното й пространство – архитектурно заснемане, конструктивно обследване, енергиен одит, инвестиционно проектиране. | C12: Зона на публични функции с висока обществена значимост | D12: Сграда и дворно място, съставляващо УПИ I, кв.127 по плана на град Сливен, централна градска част
A13: 8 | B13: Реконструкция и основен ремонт на Детска градина „Папазян“ и благоустрояване на дворното й пространство – архитектурно заснемане, конструктивно обследване, енергиен одит, инвестиционно проектиране. | C13: Зона с преобладаващ социален характер | D13: Сграда и дворно място, съставляващо УПИ I, кв.562 по плана на град Сливен, ж.к. "Българка"
A14: 9 | B14: Реконструкция и основен ремонт на Детска градина „Калина“, изграждане на нова кухня и благоустрояване на дворното й пространство – архитектурно заснемане, конструктивно обследване, енергиен одит, инвестиционно проектиране. | C14: Зона с преобладаващ социален характер | D14: Сграда и дворно място, съставляващо УПИ I, кв.81 по плана на град Сливен, ж.к. "Комлука"
A15: 10 | B15: Проектиране на кръгово кръстовище "Розова градина" (кръстовището на ул. "Братя Миладинови", бул. "Цар Освободител", бул. "Христо Ботев", бул. "Георги Данчев", бул. "Бургаско шосе" и ул. "Радой Ралин"). | C15: Зона на публични функции с висока обществена значимост | D15: Кръстовище "Розова градина"
